BEGIN:VCALENDAR
VERSION:2.0
PRODID:-//Queenstown Baptist Church  女皇镇浸信教会 - ECPv6.15.18//NONSGML v1.0//EN
CALSCALE:GREGORIAN
METHOD:PUBLISH
X-WR-CALNAME:Queenstown Baptist Church  女皇镇浸信教会
X-ORIGINAL-URL:https://beta.qbc.sg
X-WR-CALDESC:Events for Queenstown Baptist Church  女皇镇浸信教会
REFRESH-INTERVAL;VALUE=DURATION:PT1H
X-Robots-Tag:noindex
X-PUBLISHED-TTL:PT1H
BEGIN:VTIMEZONE
TZID:Asia/Singapore
BEGIN:STANDARD
TZOFFSETFROM:+0800
TZOFFSETTO:+0800
TZNAME:+08
DTSTART:20280101T000000
END:STANDARD
END:VTIMEZONE
BEGIN:VEVENT
DTSTART;TZID=Asia/Singapore:20290825T190000
DTEND;TZID=Asia/Singapore:20290825T201500
DTSTAMP:20260421T103140
CREATED:20250731T062610Z
LAST-MODIFIED:20250731T072101Z
UID:10000216-1882378800-1882383300@beta.qbc.sg
SUMMARY:Worship Service - Saturday (English)
DESCRIPTION:
URL:https://beta.qbc.sg/event/worship-service-saturday-english/2029-08-25/
LOCATION:Agape Sanctuary (L3)\, 495 Margaret Drive\, Singapore\, 149305\, Singapore
CATEGORIES:English,Worship Service
ATTACH;FMTTYPE=image/jpeg:https://beta.qbc.sg/wp-content/uploads/2025/07/event-worshipservice-en-sat.jpg
END:VEVENT
BEGIN:VEVENT
DTSTART;TZID=Asia/Singapore:20290826T100000
DTEND;TZID=Asia/Singapore:20290826T111500
DTSTAMP:20260421T103140
CREATED:20250731T062932Z
LAST-MODIFIED:20250731T072107Z
UID:10000478-1882432800-1882437300@beta.qbc.sg
SUMMARY:Worship Service – Sunday (English)
DESCRIPTION:
URL:https://beta.qbc.sg/event/worship-service-sunday-english/2029-08-26/
LOCATION:Agape Sanctuary (L3)\, 495 Margaret Drive\, Singapore\, 149305\, Singapore
CATEGORIES:English,Worship Service
ATTACH;FMTTYPE=image/jpeg:https://beta.qbc.sg/wp-content/uploads/2025/07/event-worshipservice-en-sun.jpg
END:VEVENT
BEGIN:VEVENT
DTSTART;TZID=Asia/Singapore:20290901T190000
DTEND;TZID=Asia/Singapore:20290901T201500
DTSTAMP:20260421T103140
CREATED:20250731T062610Z
LAST-MODIFIED:20250731T072101Z
UID:10000217-1882983600-1882988100@beta.qbc.sg
SUMMARY:Worship Service - Saturday (English)
DESCRIPTION:
URL:https://beta.qbc.sg/event/worship-service-saturday-english/2029-09-01/
LOCATION:Agape Sanctuary (L3)\, 495 Margaret Drive\, Singapore\, 149305\, Singapore
CATEGORIES:English,Worship Service
ATTACH;FMTTYPE=image/jpeg:https://beta.qbc.sg/wp-content/uploads/2025/07/event-worshipservice-en-sat.jpg
END:VEVENT
BEGIN:VEVENT
DTSTART;TZID=Asia/Singapore:20290902T100000
DTEND;TZID=Asia/Singapore:20290902T111500
DTSTAMP:20260421T103140
CREATED:20250731T062932Z
LAST-MODIFIED:20250731T072107Z
UID:10000479-1883037600-1883042100@beta.qbc.sg
SUMMARY:Worship Service – Sunday (English)
DESCRIPTION:
URL:https://beta.qbc.sg/event/worship-service-sunday-english/2029-09-02/
LOCATION:Agape Sanctuary (L3)\, 495 Margaret Drive\, Singapore\, 149305\, Singapore
CATEGORIES:English,Worship Service
ATTACH;FMTTYPE=image/jpeg:https://beta.qbc.sg/wp-content/uploads/2025/07/event-worshipservice-en-sun.jpg
END:VEVENT
BEGIN:VEVENT
DTSTART;TZID=Asia/Singapore:20290908T190000
DTEND;TZID=Asia/Singapore:20290908T201500
DTSTAMP:20260421T103140
CREATED:20250731T062610Z
LAST-MODIFIED:20250731T072101Z
UID:10000218-1883588400-1883592900@beta.qbc.sg
SUMMARY:Worship Service - Saturday (English)
DESCRIPTION:
URL:https://beta.qbc.sg/event/worship-service-saturday-english/2029-09-08/
LOCATION:Agape Sanctuary (L3)\, 495 Margaret Drive\, Singapore\, 149305\, Singapore
CATEGORIES:English,Worship Service
ATTACH;FMTTYPE=image/jpeg:https://beta.qbc.sg/wp-content/uploads/2025/07/event-worshipservice-en-sat.jpg
END:VEVENT
BEGIN:VEVENT
DTSTART;TZID=Asia/Singapore:20290909T100000
DTEND;TZID=Asia/Singapore:20290909T111500
DTSTAMP:20260421T103140
CREATED:20250731T062932Z
LAST-MODIFIED:20250731T072107Z
UID:10000480-1883642400-1883646900@beta.qbc.sg
SUMMARY:Worship Service – Sunday (English)
DESCRIPTION:
URL:https://beta.qbc.sg/event/worship-service-sunday-english/2029-09-09/
LOCATION:Agape Sanctuary (L3)\, 495 Margaret Drive\, Singapore\, 149305\, Singapore
CATEGORIES:English,Worship Service
ATTACH;FMTTYPE=image/jpeg:https://beta.qbc.sg/wp-content/uploads/2025/07/event-worshipservice-en-sun.jpg
END:VEVENT
BEGIN:VEVENT
DTSTART;TZID=Asia/Singapore:20290915T190000
DTEND;TZID=Asia/Singapore:20290915T201500
DTSTAMP:20260421T103140
CREATED:20250731T062610Z
LAST-MODIFIED:20250731T072101Z
UID:10000219-1884193200-1884197700@beta.qbc.sg
SUMMARY:Worship Service - Saturday (English)
DESCRIPTION:
URL:https://beta.qbc.sg/event/worship-service-saturday-english/2029-09-15/
LOCATION:Agape Sanctuary (L3)\, 495 Margaret Drive\, Singapore\, 149305\, Singapore
CATEGORIES:English,Worship Service
ATTACH;FMTTYPE=image/jpeg:https://beta.qbc.sg/wp-content/uploads/2025/07/event-worshipservice-en-sat.jpg
END:VEVENT
BEGIN:VEVENT
DTSTART;TZID=Asia/Singapore:20290916T100000
DTEND;TZID=Asia/Singapore:20290916T111500
DTSTAMP:20260421T103140
CREATED:20250731T062932Z
LAST-MODIFIED:20250731T072107Z
UID:10000481-1884247200-1884251700@beta.qbc.sg
SUMMARY:Worship Service – Sunday (English)
DESCRIPTION:
URL:https://beta.qbc.sg/event/worship-service-sunday-english/2029-09-16/
LOCATION:Agape Sanctuary (L3)\, 495 Margaret Drive\, Singapore\, 149305\, Singapore
CATEGORIES:English,Worship Service
ATTACH;FMTTYPE=image/jpeg:https://beta.qbc.sg/wp-content/uploads/2025/07/event-worshipservice-en-sun.jpg
END:VEVENT
BEGIN:VEVENT
DTSTART;TZID=Asia/Singapore:20290922T190000
DTEND;TZID=Asia/Singapore:20290922T201500
DTSTAMP:20260421T103140
CREATED:20250731T062610Z
LAST-MODIFIED:20250731T072101Z
UID:10000220-1884798000-1884802500@beta.qbc.sg
SUMMARY:Worship Service - Saturday (English)
DESCRIPTION:
URL:https://beta.qbc.sg/event/worship-service-saturday-english/2029-09-22/
LOCATION:Agape Sanctuary (L3)\, 495 Margaret Drive\, Singapore\, 149305\, Singapore
CATEGORIES:English,Worship Service
ATTACH;FMTTYPE=image/jpeg:https://beta.qbc.sg/wp-content/uploads/2025/07/event-worshipservice-en-sat.jpg
END:VEVENT
BEGIN:VEVENT
DTSTART;TZID=Asia/Singapore:20290923T100000
DTEND;TZID=Asia/Singapore:20290923T111500
DTSTAMP:20260421T103140
CREATED:20250731T062932Z
LAST-MODIFIED:20250731T072107Z
UID:10000482-1884852000-1884856500@beta.qbc.sg
SUMMARY:Worship Service – Sunday (English)
DESCRIPTION:
URL:https://beta.qbc.sg/event/worship-service-sunday-english/2029-09-23/
LOCATION:Agape Sanctuary (L3)\, 495 Margaret Drive\, Singapore\, 149305\, Singapore
CATEGORIES:English,Worship Service
ATTACH;FMTTYPE=image/jpeg:https://beta.qbc.sg/wp-content/uploads/2025/07/event-worshipservice-en-sun.jpg
END:VEVENT
BEGIN:VEVENT
DTSTART;TZID=Asia/Singapore:20290929T190000
DTEND;TZID=Asia/Singapore:20290929T201500
DTSTAMP:20260421T103140
CREATED:20250731T062610Z
LAST-MODIFIED:20250731T072101Z
UID:10000221-1885402800-1885407300@beta.qbc.sg
SUMMARY:Worship Service - Saturday (English)
DESCRIPTION:
URL:https://beta.qbc.sg/event/worship-service-saturday-english/2029-09-29/
LOCATION:Agape Sanctuary (L3)\, 495 Margaret Drive\, Singapore\, 149305\, Singapore
CATEGORIES:English,Worship Service
ATTACH;FMTTYPE=image/jpeg:https://beta.qbc.sg/wp-content/uploads/2025/07/event-worshipservice-en-sat.jpg
END:VEVENT
BEGIN:VEVENT
DTSTART;TZID=Asia/Singapore:20290930T100000
DTEND;TZID=Asia/Singapore:20290930T111500
DTSTAMP:20260421T103140
CREATED:20250731T062932Z
LAST-MODIFIED:20250731T072107Z
UID:10000483-1885456800-1885461300@beta.qbc.sg
SUMMARY:Worship Service – Sunday (English)
DESCRIPTION:
URL:https://beta.qbc.sg/event/worship-service-sunday-english/2029-09-30/
LOCATION:Agape Sanctuary (L3)\, 495 Margaret Drive\, Singapore\, 149305\, Singapore
CATEGORIES:English,Worship Service
ATTACH;FMTTYPE=image/jpeg:https://beta.qbc.sg/wp-content/uploads/2025/07/event-worshipservice-en-sun.jpg
END:VEVENT
BEGIN:VEVENT
DTSTART;TZID=Asia/Singapore:20291006T190000
DTEND;TZID=Asia/Singapore:20291006T201500
DTSTAMP:20260421T103140
CREATED:20250731T062610Z
LAST-MODIFIED:20250731T072101Z
UID:10000222-1886007600-1886012100@beta.qbc.sg
SUMMARY:Worship Service - Saturday (English)
DESCRIPTION:
URL:https://beta.qbc.sg/event/worship-service-saturday-english/2029-10-06/
LOCATION:Agape Sanctuary (L3)\, 495 Margaret Drive\, Singapore\, 149305\, Singapore
CATEGORIES:English,Worship Service
ATTACH;FMTTYPE=image/jpeg:https://beta.qbc.sg/wp-content/uploads/2025/07/event-worshipservice-en-sat.jpg
END:VEVENT
BEGIN:VEVENT
DTSTART;TZID=Asia/Singapore:20291007T100000
DTEND;TZID=Asia/Singapore:20291007T111500
DTSTAMP:20260421T103140
CREATED:20250731T062932Z
LAST-MODIFIED:20250731T072107Z
UID:10000484-1886061600-1886066100@beta.qbc.sg
SUMMARY:Worship Service – Sunday (English)
DESCRIPTION:
URL:https://beta.qbc.sg/event/worship-service-sunday-english/2029-10-07/
LOCATION:Agape Sanctuary (L3)\, 495 Margaret Drive\, Singapore\, 149305\, Singapore
CATEGORIES:English,Worship Service
ATTACH;FMTTYPE=image/jpeg:https://beta.qbc.sg/wp-content/uploads/2025/07/event-worshipservice-en-sun.jpg
END:VEVENT
BEGIN:VEVENT
DTSTART;TZID=Asia/Singapore:20291013T190000
DTEND;TZID=Asia/Singapore:20291013T201500
DTSTAMP:20260421T103140
CREATED:20250731T062610Z
LAST-MODIFIED:20250731T072101Z
UID:10000223-1886612400-1886616900@beta.qbc.sg
SUMMARY:Worship Service - Saturday (English)
DESCRIPTION:
URL:https://beta.qbc.sg/event/worship-service-saturday-english/2029-10-13/
LOCATION:Agape Sanctuary (L3)\, 495 Margaret Drive\, Singapore\, 149305\, Singapore
CATEGORIES:English,Worship Service
ATTACH;FMTTYPE=image/jpeg:https://beta.qbc.sg/wp-content/uploads/2025/07/event-worshipservice-en-sat.jpg
END:VEVENT
BEGIN:VEVENT
DTSTART;TZID=Asia/Singapore:20291014T100000
DTEND;TZID=Asia/Singapore:20291014T111500
DTSTAMP:20260421T103140
CREATED:20250731T062932Z
LAST-MODIFIED:20250731T072107Z
UID:10000485-1886666400-1886670900@beta.qbc.sg
SUMMARY:Worship Service – Sunday (English)
DESCRIPTION:
URL:https://beta.qbc.sg/event/worship-service-sunday-english/2029-10-14/
LOCATION:Agape Sanctuary (L3)\, 495 Margaret Drive\, Singapore\, 149305\, Singapore
CATEGORIES:English,Worship Service
ATTACH;FMTTYPE=image/jpeg:https://beta.qbc.sg/wp-content/uploads/2025/07/event-worshipservice-en-sun.jpg
END:VEVENT
BEGIN:VEVENT
DTSTART;TZID=Asia/Singapore:20291020T190000
DTEND;TZID=Asia/Singapore:20291020T201500
DTSTAMP:20260421T103140
CREATED:20250731T062610Z
LAST-MODIFIED:20250731T072101Z
UID:10000224-1887217200-1887221700@beta.qbc.sg
SUMMARY:Worship Service - Saturday (English)
DESCRIPTION:
URL:https://beta.qbc.sg/event/worship-service-saturday-english/2029-10-20/
LOCATION:Agape Sanctuary (L3)\, 495 Margaret Drive\, Singapore\, 149305\, Singapore
CATEGORIES:English,Worship Service
ATTACH;FMTTYPE=image/jpeg:https://beta.qbc.sg/wp-content/uploads/2025/07/event-worshipservice-en-sat.jpg
END:VEVENT
BEGIN:VEVENT
DTSTART;TZID=Asia/Singapore:20291021T100000
DTEND;TZID=Asia/Singapore:20291021T111500
DTSTAMP:20260421T103140
CREATED:20250731T062932Z
LAST-MODIFIED:20250731T072107Z
UID:10000486-1887271200-1887275700@beta.qbc.sg
SUMMARY:Worship Service – Sunday (English)
DESCRIPTION:
URL:https://beta.qbc.sg/event/worship-service-sunday-english/2029-10-21/
LOCATION:Agape Sanctuary (L3)\, 495 Margaret Drive\, Singapore\, 149305\, Singapore
CATEGORIES:English,Worship Service
ATTACH;FMTTYPE=image/jpeg:https://beta.qbc.sg/wp-content/uploads/2025/07/event-worshipservice-en-sun.jpg
END:VEVENT
BEGIN:VEVENT
DTSTART;TZID=Asia/Singapore:20291027T190000
DTEND;TZID=Asia/Singapore:20291027T201500
DTSTAMP:20260421T103140
CREATED:20250731T062610Z
LAST-MODIFIED:20250731T072101Z
UID:10000225-1887822000-1887826500@beta.qbc.sg
SUMMARY:Worship Service - Saturday (English)
DESCRIPTION:
URL:https://beta.qbc.sg/event/worship-service-saturday-english/2029-10-27/
LOCATION:Agape Sanctuary (L3)\, 495 Margaret Drive\, Singapore\, 149305\, Singapore
CATEGORIES:English,Worship Service
ATTACH;FMTTYPE=image/jpeg:https://beta.qbc.sg/wp-content/uploads/2025/07/event-worshipservice-en-sat.jpg
END:VEVENT
BEGIN:VEVENT
DTSTART;TZID=Asia/Singapore:20291028T100000
DTEND;TZID=Asia/Singapore:20291028T111500
DTSTAMP:20260421T103140
CREATED:20250731T062932Z
LAST-MODIFIED:20250731T072107Z
UID:10000487-1887876000-1887880500@beta.qbc.sg
SUMMARY:Worship Service – Sunday (English)
DESCRIPTION:
URL:https://beta.qbc.sg/event/worship-service-sunday-english/2029-10-28/
LOCATION:Agape Sanctuary (L3)\, 495 Margaret Drive\, Singapore\, 149305\, Singapore
CATEGORIES:English,Worship Service
ATTACH;FMTTYPE=image/jpeg:https://beta.qbc.sg/wp-content/uploads/2025/07/event-worshipservice-en-sun.jpg
END:VEVENT
BEGIN:VEVENT
DTSTART;TZID=Asia/Singapore:20291103T190000
DTEND;TZID=Asia/Singapore:20291103T201500
DTSTAMP:20260421T103140
CREATED:20250731T062610Z
LAST-MODIFIED:20250731T072101Z
UID:10000226-1888426800-1888431300@beta.qbc.sg
SUMMARY:Worship Service - Saturday (English)
DESCRIPTION:
URL:https://beta.qbc.sg/event/worship-service-saturday-english/2029-11-03/
LOCATION:Agape Sanctuary (L3)\, 495 Margaret Drive\, Singapore\, 149305\, Singapore
CATEGORIES:English,Worship Service
ATTACH;FMTTYPE=image/jpeg:https://beta.qbc.sg/wp-content/uploads/2025/07/event-worshipservice-en-sat.jpg
END:VEVENT
BEGIN:VEVENT
DTSTART;TZID=Asia/Singapore:20291104T100000
DTEND;TZID=Asia/Singapore:20291104T111500
DTSTAMP:20260421T103140
CREATED:20250731T062932Z
LAST-MODIFIED:20250731T072107Z
UID:10000488-1888480800-1888485300@beta.qbc.sg
SUMMARY:Worship Service – Sunday (English)
DESCRIPTION:
URL:https://beta.qbc.sg/event/worship-service-sunday-english/2029-11-04/
LOCATION:Agape Sanctuary (L3)\, 495 Margaret Drive\, Singapore\, 149305\, Singapore
CATEGORIES:English,Worship Service
ATTACH;FMTTYPE=image/jpeg:https://beta.qbc.sg/wp-content/uploads/2025/07/event-worshipservice-en-sun.jpg
END:VEVENT
BEGIN:VEVENT
DTSTART;TZID=Asia/Singapore:20291110T190000
DTEND;TZID=Asia/Singapore:20291110T201500
DTSTAMP:20260421T103140
CREATED:20250731T062610Z
LAST-MODIFIED:20250731T072101Z
UID:10000227-1889031600-1889036100@beta.qbc.sg
SUMMARY:Worship Service - Saturday (English)
DESCRIPTION:
URL:https://beta.qbc.sg/event/worship-service-saturday-english/2029-11-10/
LOCATION:Agape Sanctuary (L3)\, 495 Margaret Drive\, Singapore\, 149305\, Singapore
CATEGORIES:English,Worship Service
ATTACH;FMTTYPE=image/jpeg:https://beta.qbc.sg/wp-content/uploads/2025/07/event-worshipservice-en-sat.jpg
END:VEVENT
BEGIN:VEVENT
DTSTART;TZID=Asia/Singapore:20291111T100000
DTEND;TZID=Asia/Singapore:20291111T111500
DTSTAMP:20260421T103140
CREATED:20250731T062932Z
LAST-MODIFIED:20250731T072107Z
UID:10000489-1889085600-1889090100@beta.qbc.sg
SUMMARY:Worship Service – Sunday (English)
DESCRIPTION:
URL:https://beta.qbc.sg/event/worship-service-sunday-english/2029-11-11/
LOCATION:Agape Sanctuary (L3)\, 495 Margaret Drive\, Singapore\, 149305\, Singapore
CATEGORIES:English,Worship Service
ATTACH;FMTTYPE=image/jpeg:https://beta.qbc.sg/wp-content/uploads/2025/07/event-worshipservice-en-sun.jpg
END:VEVENT
BEGIN:VEVENT
DTSTART;TZID=Asia/Singapore:20291117T190000
DTEND;TZID=Asia/Singapore:20291117T201500
DTSTAMP:20260421T103140
CREATED:20250731T062610Z
LAST-MODIFIED:20250731T072101Z
UID:10000228-1889636400-1889640900@beta.qbc.sg
SUMMARY:Worship Service - Saturday (English)
DESCRIPTION:
URL:https://beta.qbc.sg/event/worship-service-saturday-english/2029-11-17/
LOCATION:Agape Sanctuary (L3)\, 495 Margaret Drive\, Singapore\, 149305\, Singapore
CATEGORIES:English,Worship Service
ATTACH;FMTTYPE=image/jpeg:https://beta.qbc.sg/wp-content/uploads/2025/07/event-worshipservice-en-sat.jpg
END:VEVENT
BEGIN:VEVENT
DTSTART;TZID=Asia/Singapore:20291118T100000
DTEND;TZID=Asia/Singapore:20291118T111500
DTSTAMP:20260421T103140
CREATED:20250731T062932Z
LAST-MODIFIED:20250731T072107Z
UID:10000490-1889690400-1889694900@beta.qbc.sg
SUMMARY:Worship Service – Sunday (English)
DESCRIPTION:
URL:https://beta.qbc.sg/event/worship-service-sunday-english/2029-11-18/
LOCATION:Agape Sanctuary (L3)\, 495 Margaret Drive\, Singapore\, 149305\, Singapore
CATEGORIES:English,Worship Service
ATTACH;FMTTYPE=image/jpeg:https://beta.qbc.sg/wp-content/uploads/2025/07/event-worshipservice-en-sun.jpg
END:VEVENT
BEGIN:VEVENT
DTSTART;TZID=Asia/Singapore:20291124T190000
DTEND;TZID=Asia/Singapore:20291124T201500
DTSTAMP:20260421T103140
CREATED:20250731T062610Z
LAST-MODIFIED:20250731T072101Z
UID:10000229-1890241200-1890245700@beta.qbc.sg
SUMMARY:Worship Service - Saturday (English)
DESCRIPTION:
URL:https://beta.qbc.sg/event/worship-service-saturday-english/2029-11-24/
LOCATION:Agape Sanctuary (L3)\, 495 Margaret Drive\, Singapore\, 149305\, Singapore
CATEGORIES:English,Worship Service
ATTACH;FMTTYPE=image/jpeg:https://beta.qbc.sg/wp-content/uploads/2025/07/event-worshipservice-en-sat.jpg
END:VEVENT
BEGIN:VEVENT
DTSTART;TZID=Asia/Singapore:20291125T100000
DTEND;TZID=Asia/Singapore:20291125T111500
DTSTAMP:20260421T103140
CREATED:20250731T062932Z
LAST-MODIFIED:20250731T072107Z
UID:10000491-1890295200-1890299700@beta.qbc.sg
SUMMARY:Worship Service – Sunday (English)
DESCRIPTION:
URL:https://beta.qbc.sg/event/worship-service-sunday-english/2029-11-25/
LOCATION:Agape Sanctuary (L3)\, 495 Margaret Drive\, Singapore\, 149305\, Singapore
CATEGORIES:English,Worship Service
ATTACH;FMTTYPE=image/jpeg:https://beta.qbc.sg/wp-content/uploads/2025/07/event-worshipservice-en-sun.jpg
END:VEVENT
BEGIN:VEVENT
DTSTART;TZID=Asia/Singapore:20291201T190000
DTEND;TZID=Asia/Singapore:20291201T201500
DTSTAMP:20260421T103140
CREATED:20250731T062610Z
LAST-MODIFIED:20250731T072101Z
UID:10000230-1890846000-1890850500@beta.qbc.sg
SUMMARY:Worship Service - Saturday (English)
DESCRIPTION:
URL:https://beta.qbc.sg/event/worship-service-saturday-english/2029-12-01/
LOCATION:Agape Sanctuary (L3)\, 495 Margaret Drive\, Singapore\, 149305\, Singapore
CATEGORIES:English,Worship Service
ATTACH;FMTTYPE=image/jpeg:https://beta.qbc.sg/wp-content/uploads/2025/07/event-worshipservice-en-sat.jpg
END:VEVENT
BEGIN:VEVENT
DTSTART;TZID=Asia/Singapore:20291202T100000
DTEND;TZID=Asia/Singapore:20291202T111500
DTSTAMP:20260421T103140
CREATED:20250731T062932Z
LAST-MODIFIED:20250731T072107Z
UID:10000492-1890900000-1890904500@beta.qbc.sg
SUMMARY:Worship Service – Sunday (English)
DESCRIPTION:
URL:https://beta.qbc.sg/event/worship-service-sunday-english/2029-12-02/
LOCATION:Agape Sanctuary (L3)\, 495 Margaret Drive\, Singapore\, 149305\, Singapore
CATEGORIES:English,Worship Service
ATTACH;FMTTYPE=image/jpeg:https://beta.qbc.sg/wp-content/uploads/2025/07/event-worshipservice-en-sun.jpg
END:VEVENT
END:VCALENDAR