BEGIN:VCALENDAR
VERSION:2.0
PRODID:-//Queenstown Baptist Church  女皇镇浸信教会 - ECPv6.15.18//NONSGML v1.0//EN
CALSCALE:GREGORIAN
METHOD:PUBLISH
X-ORIGINAL-URL:https://beta.qbc.sg
X-WR-CALDESC:Events for Queenstown Baptist Church  女皇镇浸信教会
REFRESH-INTERVAL;VALUE=DURATION:PT1H
X-Robots-Tag:noindex
X-PUBLISHED-TTL:PT1H
BEGIN:VTIMEZONE
TZID:Asia/Singapore
BEGIN:STANDARD
TZOFFSETFROM:+0800
TZOFFSETTO:+0800
TZNAME:+08
DTSTART:20270101T000000
END:STANDARD
END:VTIMEZONE
BEGIN:VEVENT
DTSTART;TZID=Asia/Singapore:20280115T190000
DTEND;TZID=Asia/Singapore:20280115T201500
DTSTAMP:20260420T152732
CREATED:20250731T062610Z
LAST-MODIFIED:20250731T072101Z
UID:10000132-1831575600-1831580100@beta.qbc.sg
SUMMARY:Worship Service - Saturday (English)
DESCRIPTION:
URL:https://beta.qbc.sg/event/worship-service-saturday-english/2028-01-15/
LOCATION:Agape Sanctuary (L3)\, 495 Margaret Drive\, Singapore\, 149305\, Singapore
CATEGORIES:English,Worship Service
ATTACH;FMTTYPE=image/jpeg:https://beta.qbc.sg/wp-content/uploads/2025/07/event-worshipservice-en-sat.jpg
END:VEVENT
BEGIN:VEVENT
DTSTART;TZID=Asia/Singapore:20280116T100000
DTEND;TZID=Asia/Singapore:20280116T111500
DTSTAMP:20260420T152732
CREATED:20250731T062932Z
LAST-MODIFIED:20250731T072107Z
UID:10000394-1831629600-1831634100@beta.qbc.sg
SUMMARY:Worship Service – Sunday (English)
DESCRIPTION:
URL:https://beta.qbc.sg/event/worship-service-sunday-english/2028-01-16/
LOCATION:Agape Sanctuary (L3)\, 495 Margaret Drive\, Singapore\, 149305\, Singapore
CATEGORIES:English,Worship Service
ATTACH;FMTTYPE=image/jpeg:https://beta.qbc.sg/wp-content/uploads/2025/07/event-worshipservice-en-sun.jpg
END:VEVENT
BEGIN:VEVENT
DTSTART;TZID=Asia/Singapore:20280122T190000
DTEND;TZID=Asia/Singapore:20280122T201500
DTSTAMP:20260420T152732
CREATED:20250731T062610Z
LAST-MODIFIED:20250731T072101Z
UID:10000133-1832180400-1832184900@beta.qbc.sg
SUMMARY:Worship Service - Saturday (English)
DESCRIPTION:
URL:https://beta.qbc.sg/event/worship-service-saturday-english/2028-01-22/
LOCATION:Agape Sanctuary (L3)\, 495 Margaret Drive\, Singapore\, 149305\, Singapore
CATEGORIES:English,Worship Service
ATTACH;FMTTYPE=image/jpeg:https://beta.qbc.sg/wp-content/uploads/2025/07/event-worshipservice-en-sat.jpg
END:VEVENT
BEGIN:VEVENT
DTSTART;TZID=Asia/Singapore:20280123T100000
DTEND;TZID=Asia/Singapore:20280123T111500
DTSTAMP:20260420T152732
CREATED:20250731T062932Z
LAST-MODIFIED:20250731T072107Z
UID:10000395-1832234400-1832238900@beta.qbc.sg
SUMMARY:Worship Service – Sunday (English)
DESCRIPTION:
URL:https://beta.qbc.sg/event/worship-service-sunday-english/2028-01-23/
LOCATION:Agape Sanctuary (L3)\, 495 Margaret Drive\, Singapore\, 149305\, Singapore
CATEGORIES:English,Worship Service
ATTACH;FMTTYPE=image/jpeg:https://beta.qbc.sg/wp-content/uploads/2025/07/event-worshipservice-en-sun.jpg
END:VEVENT
BEGIN:VEVENT
DTSTART;TZID=Asia/Singapore:20280129T190000
DTEND;TZID=Asia/Singapore:20280129T201500
DTSTAMP:20260420T152732
CREATED:20250731T062610Z
LAST-MODIFIED:20250731T072101Z
UID:10000134-1832785200-1832789700@beta.qbc.sg
SUMMARY:Worship Service - Saturday (English)
DESCRIPTION:
URL:https://beta.qbc.sg/event/worship-service-saturday-english/2028-01-29/
LOCATION:Agape Sanctuary (L3)\, 495 Margaret Drive\, Singapore\, 149305\, Singapore
CATEGORIES:English,Worship Service
ATTACH;FMTTYPE=image/jpeg:https://beta.qbc.sg/wp-content/uploads/2025/07/event-worshipservice-en-sat.jpg
END:VEVENT
BEGIN:VEVENT
DTSTART;TZID=Asia/Singapore:20280130T100000
DTEND;TZID=Asia/Singapore:20280130T111500
DTSTAMP:20260420T152732
CREATED:20250731T062932Z
LAST-MODIFIED:20250731T072107Z
UID:10000396-1832839200-1832843700@beta.qbc.sg
SUMMARY:Worship Service – Sunday (English)
DESCRIPTION:
URL:https://beta.qbc.sg/event/worship-service-sunday-english/2028-01-30/
LOCATION:Agape Sanctuary (L3)\, 495 Margaret Drive\, Singapore\, 149305\, Singapore
CATEGORIES:English,Worship Service
ATTACH;FMTTYPE=image/jpeg:https://beta.qbc.sg/wp-content/uploads/2025/07/event-worshipservice-en-sun.jpg
END:VEVENT
BEGIN:VEVENT
DTSTART;TZID=Asia/Singapore:20280205T190000
DTEND;TZID=Asia/Singapore:20280205T201500
DTSTAMP:20260420T152732
CREATED:20250731T062610Z
LAST-MODIFIED:20250731T072101Z
UID:10000135-1833390000-1833394500@beta.qbc.sg
SUMMARY:Worship Service - Saturday (English)
DESCRIPTION:
URL:https://beta.qbc.sg/event/worship-service-saturday-english/2028-02-05/
LOCATION:Agape Sanctuary (L3)\, 495 Margaret Drive\, Singapore\, 149305\, Singapore
CATEGORIES:English,Worship Service
ATTACH;FMTTYPE=image/jpeg:https://beta.qbc.sg/wp-content/uploads/2025/07/event-worshipservice-en-sat.jpg
END:VEVENT
BEGIN:VEVENT
DTSTART;TZID=Asia/Singapore:20280206T100000
DTEND;TZID=Asia/Singapore:20280206T111500
DTSTAMP:20260420T152732
CREATED:20250731T062932Z
LAST-MODIFIED:20250731T072107Z
UID:10000397-1833444000-1833448500@beta.qbc.sg
SUMMARY:Worship Service – Sunday (English)
DESCRIPTION:
URL:https://beta.qbc.sg/event/worship-service-sunday-english/2028-02-06/
LOCATION:Agape Sanctuary (L3)\, 495 Margaret Drive\, Singapore\, 149305\, Singapore
CATEGORIES:English,Worship Service
ATTACH;FMTTYPE=image/jpeg:https://beta.qbc.sg/wp-content/uploads/2025/07/event-worshipservice-en-sun.jpg
END:VEVENT
BEGIN:VEVENT
DTSTART;TZID=Asia/Singapore:20280212T190000
DTEND;TZID=Asia/Singapore:20280212T201500
DTSTAMP:20260420T152732
CREATED:20250731T062610Z
LAST-MODIFIED:20250731T072101Z
UID:10000136-1833994800-1833999300@beta.qbc.sg
SUMMARY:Worship Service - Saturday (English)
DESCRIPTION:
URL:https://beta.qbc.sg/event/worship-service-saturday-english/2028-02-12/
LOCATION:Agape Sanctuary (L3)\, 495 Margaret Drive\, Singapore\, 149305\, Singapore
CATEGORIES:English,Worship Service
ATTACH;FMTTYPE=image/jpeg:https://beta.qbc.sg/wp-content/uploads/2025/07/event-worshipservice-en-sat.jpg
END:VEVENT
BEGIN:VEVENT
DTSTART;TZID=Asia/Singapore:20280213T100000
DTEND;TZID=Asia/Singapore:20280213T111500
DTSTAMP:20260420T152732
CREATED:20250731T062932Z
LAST-MODIFIED:20250731T072107Z
UID:10000398-1834048800-1834053300@beta.qbc.sg
SUMMARY:Worship Service – Sunday (English)
DESCRIPTION:
URL:https://beta.qbc.sg/event/worship-service-sunday-english/2028-02-13/
LOCATION:Agape Sanctuary (L3)\, 495 Margaret Drive\, Singapore\, 149305\, Singapore
CATEGORIES:English,Worship Service
ATTACH;FMTTYPE=image/jpeg:https://beta.qbc.sg/wp-content/uploads/2025/07/event-worshipservice-en-sun.jpg
END:VEVENT
BEGIN:VEVENT
DTSTART;TZID=Asia/Singapore:20280219T190000
DTEND;TZID=Asia/Singapore:20280219T201500
DTSTAMP:20260420T152732
CREATED:20250731T062610Z
LAST-MODIFIED:20250731T072101Z
UID:10000137-1834599600-1834604100@beta.qbc.sg
SUMMARY:Worship Service - Saturday (English)
DESCRIPTION:
URL:https://beta.qbc.sg/event/worship-service-saturday-english/2028-02-19/
LOCATION:Agape Sanctuary (L3)\, 495 Margaret Drive\, Singapore\, 149305\, Singapore
CATEGORIES:English,Worship Service
ATTACH;FMTTYPE=image/jpeg:https://beta.qbc.sg/wp-content/uploads/2025/07/event-worshipservice-en-sat.jpg
END:VEVENT
BEGIN:VEVENT
DTSTART;TZID=Asia/Singapore:20280220T100000
DTEND;TZID=Asia/Singapore:20280220T111500
DTSTAMP:20260420T152732
CREATED:20250731T062932Z
LAST-MODIFIED:20250731T072107Z
UID:10000399-1834653600-1834658100@beta.qbc.sg
SUMMARY:Worship Service – Sunday (English)
DESCRIPTION:
URL:https://beta.qbc.sg/event/worship-service-sunday-english/2028-02-20/
LOCATION:Agape Sanctuary (L3)\, 495 Margaret Drive\, Singapore\, 149305\, Singapore
CATEGORIES:English,Worship Service
ATTACH;FMTTYPE=image/jpeg:https://beta.qbc.sg/wp-content/uploads/2025/07/event-worshipservice-en-sun.jpg
END:VEVENT
BEGIN:VEVENT
DTSTART;TZID=Asia/Singapore:20280226T190000
DTEND;TZID=Asia/Singapore:20280226T201500
DTSTAMP:20260420T152732
CREATED:20250731T062610Z
LAST-MODIFIED:20250731T072101Z
UID:10000138-1835204400-1835208900@beta.qbc.sg
SUMMARY:Worship Service - Saturday (English)
DESCRIPTION:
URL:https://beta.qbc.sg/event/worship-service-saturday-english/2028-02-26/
LOCATION:Agape Sanctuary (L3)\, 495 Margaret Drive\, Singapore\, 149305\, Singapore
CATEGORIES:English,Worship Service
ATTACH;FMTTYPE=image/jpeg:https://beta.qbc.sg/wp-content/uploads/2025/07/event-worshipservice-en-sat.jpg
END:VEVENT
BEGIN:VEVENT
DTSTART;TZID=Asia/Singapore:20280227T100000
DTEND;TZID=Asia/Singapore:20280227T111500
DTSTAMP:20260420T152732
CREATED:20250731T062932Z
LAST-MODIFIED:20250731T072107Z
UID:10000400-1835258400-1835262900@beta.qbc.sg
SUMMARY:Worship Service – Sunday (English)
DESCRIPTION:
URL:https://beta.qbc.sg/event/worship-service-sunday-english/2028-02-27/
LOCATION:Agape Sanctuary (L3)\, 495 Margaret Drive\, Singapore\, 149305\, Singapore
CATEGORIES:English,Worship Service
ATTACH;FMTTYPE=image/jpeg:https://beta.qbc.sg/wp-content/uploads/2025/07/event-worshipservice-en-sun.jpg
END:VEVENT
BEGIN:VEVENT
DTSTART;TZID=Asia/Singapore:20280304T190000
DTEND;TZID=Asia/Singapore:20280304T201500
DTSTAMP:20260420T152732
CREATED:20250731T062610Z
LAST-MODIFIED:20250731T072101Z
UID:10000139-1835809200-1835813700@beta.qbc.sg
SUMMARY:Worship Service - Saturday (English)
DESCRIPTION:
URL:https://beta.qbc.sg/event/worship-service-saturday-english/2028-03-04/
LOCATION:Agape Sanctuary (L3)\, 495 Margaret Drive\, Singapore\, 149305\, Singapore
CATEGORIES:English,Worship Service
ATTACH;FMTTYPE=image/jpeg:https://beta.qbc.sg/wp-content/uploads/2025/07/event-worshipservice-en-sat.jpg
END:VEVENT
BEGIN:VEVENT
DTSTART;TZID=Asia/Singapore:20280305T100000
DTEND;TZID=Asia/Singapore:20280305T111500
DTSTAMP:20260420T152732
CREATED:20250731T062932Z
LAST-MODIFIED:20250731T072107Z
UID:10000401-1835863200-1835867700@beta.qbc.sg
SUMMARY:Worship Service – Sunday (English)
DESCRIPTION:
URL:https://beta.qbc.sg/event/worship-service-sunday-english/2028-03-05/
LOCATION:Agape Sanctuary (L3)\, 495 Margaret Drive\, Singapore\, 149305\, Singapore
CATEGORIES:English,Worship Service
ATTACH;FMTTYPE=image/jpeg:https://beta.qbc.sg/wp-content/uploads/2025/07/event-worshipservice-en-sun.jpg
END:VEVENT
BEGIN:VEVENT
DTSTART;TZID=Asia/Singapore:20280311T190000
DTEND;TZID=Asia/Singapore:20280311T201500
DTSTAMP:20260420T152732
CREATED:20250731T062610Z
LAST-MODIFIED:20250731T072101Z
UID:10000140-1836414000-1836418500@beta.qbc.sg
SUMMARY:Worship Service - Saturday (English)
DESCRIPTION:
URL:https://beta.qbc.sg/event/worship-service-saturday-english/2028-03-11/
LOCATION:Agape Sanctuary (L3)\, 495 Margaret Drive\, Singapore\, 149305\, Singapore
CATEGORIES:English,Worship Service
ATTACH;FMTTYPE=image/jpeg:https://beta.qbc.sg/wp-content/uploads/2025/07/event-worshipservice-en-sat.jpg
END:VEVENT
BEGIN:VEVENT
DTSTART;TZID=Asia/Singapore:20280312T100000
DTEND;TZID=Asia/Singapore:20280312T111500
DTSTAMP:20260420T152732
CREATED:20250731T062932Z
LAST-MODIFIED:20250731T072107Z
UID:10000402-1836468000-1836472500@beta.qbc.sg
SUMMARY:Worship Service – Sunday (English)
DESCRIPTION:
URL:https://beta.qbc.sg/event/worship-service-sunday-english/2028-03-12/
LOCATION:Agape Sanctuary (L3)\, 495 Margaret Drive\, Singapore\, 149305\, Singapore
CATEGORIES:English,Worship Service
ATTACH;FMTTYPE=image/jpeg:https://beta.qbc.sg/wp-content/uploads/2025/07/event-worshipservice-en-sun.jpg
END:VEVENT
BEGIN:VEVENT
DTSTART;TZID=Asia/Singapore:20280318T190000
DTEND;TZID=Asia/Singapore:20280318T201500
DTSTAMP:20260420T152732
CREATED:20250731T062610Z
LAST-MODIFIED:20250731T072101Z
UID:10000141-1837018800-1837023300@beta.qbc.sg
SUMMARY:Worship Service - Saturday (English)
DESCRIPTION:
URL:https://beta.qbc.sg/event/worship-service-saturday-english/2028-03-18/
LOCATION:Agape Sanctuary (L3)\, 495 Margaret Drive\, Singapore\, 149305\, Singapore
CATEGORIES:English,Worship Service
ATTACH;FMTTYPE=image/jpeg:https://beta.qbc.sg/wp-content/uploads/2025/07/event-worshipservice-en-sat.jpg
END:VEVENT
BEGIN:VEVENT
DTSTART;TZID=Asia/Singapore:20280319T100000
DTEND;TZID=Asia/Singapore:20280319T111500
DTSTAMP:20260420T152732
CREATED:20250731T062932Z
LAST-MODIFIED:20250731T072107Z
UID:10000403-1837072800-1837077300@beta.qbc.sg
SUMMARY:Worship Service – Sunday (English)
DESCRIPTION:
URL:https://beta.qbc.sg/event/worship-service-sunday-english/2028-03-19/
LOCATION:Agape Sanctuary (L3)\, 495 Margaret Drive\, Singapore\, 149305\, Singapore
CATEGORIES:English,Worship Service
ATTACH;FMTTYPE=image/jpeg:https://beta.qbc.sg/wp-content/uploads/2025/07/event-worshipservice-en-sun.jpg
END:VEVENT
BEGIN:VEVENT
DTSTART;TZID=Asia/Singapore:20280325T190000
DTEND;TZID=Asia/Singapore:20280325T201500
DTSTAMP:20260420T152732
CREATED:20250731T062610Z
LAST-MODIFIED:20250731T072101Z
UID:10000142-1837623600-1837628100@beta.qbc.sg
SUMMARY:Worship Service - Saturday (English)
DESCRIPTION:
URL:https://beta.qbc.sg/event/worship-service-saturday-english/2028-03-25/
LOCATION:Agape Sanctuary (L3)\, 495 Margaret Drive\, Singapore\, 149305\, Singapore
CATEGORIES:English,Worship Service
ATTACH;FMTTYPE=image/jpeg:https://beta.qbc.sg/wp-content/uploads/2025/07/event-worshipservice-en-sat.jpg
END:VEVENT
BEGIN:VEVENT
DTSTART;TZID=Asia/Singapore:20280326T100000
DTEND;TZID=Asia/Singapore:20280326T111500
DTSTAMP:20260420T152732
CREATED:20250731T062932Z
LAST-MODIFIED:20250731T072107Z
UID:10000404-1837677600-1837682100@beta.qbc.sg
SUMMARY:Worship Service – Sunday (English)
DESCRIPTION:
URL:https://beta.qbc.sg/event/worship-service-sunday-english/2028-03-26/
LOCATION:Agape Sanctuary (L3)\, 495 Margaret Drive\, Singapore\, 149305\, Singapore
CATEGORIES:English,Worship Service
ATTACH;FMTTYPE=image/jpeg:https://beta.qbc.sg/wp-content/uploads/2025/07/event-worshipservice-en-sun.jpg
END:VEVENT
BEGIN:VEVENT
DTSTART;TZID=Asia/Singapore:20280401T190000
DTEND;TZID=Asia/Singapore:20280401T201500
DTSTAMP:20260420T152732
CREATED:20250731T062610Z
LAST-MODIFIED:20250731T072101Z
UID:10000143-1838228400-1838232900@beta.qbc.sg
SUMMARY:Worship Service - Saturday (English)
DESCRIPTION:
URL:https://beta.qbc.sg/event/worship-service-saturday-english/2028-04-01/
LOCATION:Agape Sanctuary (L3)\, 495 Margaret Drive\, Singapore\, 149305\, Singapore
CATEGORIES:English,Worship Service
ATTACH;FMTTYPE=image/jpeg:https://beta.qbc.sg/wp-content/uploads/2025/07/event-worshipservice-en-sat.jpg
END:VEVENT
BEGIN:VEVENT
DTSTART;TZID=Asia/Singapore:20280402T100000
DTEND;TZID=Asia/Singapore:20280402T111500
DTSTAMP:20260420T152732
CREATED:20250731T062932Z
LAST-MODIFIED:20250731T072107Z
UID:10000405-1838282400-1838286900@beta.qbc.sg
SUMMARY:Worship Service – Sunday (English)
DESCRIPTION:
URL:https://beta.qbc.sg/event/worship-service-sunday-english/2028-04-02/
LOCATION:Agape Sanctuary (L3)\, 495 Margaret Drive\, Singapore\, 149305\, Singapore
CATEGORIES:English,Worship Service
ATTACH;FMTTYPE=image/jpeg:https://beta.qbc.sg/wp-content/uploads/2025/07/event-worshipservice-en-sun.jpg
END:VEVENT
BEGIN:VEVENT
DTSTART;TZID=Asia/Singapore:20280408T190000
DTEND;TZID=Asia/Singapore:20280408T201500
DTSTAMP:20260420T152732
CREATED:20250731T062610Z
LAST-MODIFIED:20250731T072101Z
UID:10000144-1838833200-1838837700@beta.qbc.sg
SUMMARY:Worship Service - Saturday (English)
DESCRIPTION:
URL:https://beta.qbc.sg/event/worship-service-saturday-english/2028-04-08/
LOCATION:Agape Sanctuary (L3)\, 495 Margaret Drive\, Singapore\, 149305\, Singapore
CATEGORIES:English,Worship Service
ATTACH;FMTTYPE=image/jpeg:https://beta.qbc.sg/wp-content/uploads/2025/07/event-worshipservice-en-sat.jpg
END:VEVENT
BEGIN:VEVENT
DTSTART;TZID=Asia/Singapore:20280409T100000
DTEND;TZID=Asia/Singapore:20280409T111500
DTSTAMP:20260420T152732
CREATED:20250731T062932Z
LAST-MODIFIED:20250731T072107Z
UID:10000406-1838887200-1838891700@beta.qbc.sg
SUMMARY:Worship Service – Sunday (English)
DESCRIPTION:
URL:https://beta.qbc.sg/event/worship-service-sunday-english/2028-04-09/
LOCATION:Agape Sanctuary (L3)\, 495 Margaret Drive\, Singapore\, 149305\, Singapore
CATEGORIES:English,Worship Service
ATTACH;FMTTYPE=image/jpeg:https://beta.qbc.sg/wp-content/uploads/2025/07/event-worshipservice-en-sun.jpg
END:VEVENT
BEGIN:VEVENT
DTSTART;TZID=Asia/Singapore:20280415T190000
DTEND;TZID=Asia/Singapore:20280415T201500
DTSTAMP:20260420T152732
CREATED:20250731T062610Z
LAST-MODIFIED:20250731T072101Z
UID:10000145-1839438000-1839442500@beta.qbc.sg
SUMMARY:Worship Service - Saturday (English)
DESCRIPTION:
URL:https://beta.qbc.sg/event/worship-service-saturday-english/2028-04-15/
LOCATION:Agape Sanctuary (L3)\, 495 Margaret Drive\, Singapore\, 149305\, Singapore
CATEGORIES:English,Worship Service
ATTACH;FMTTYPE=image/jpeg:https://beta.qbc.sg/wp-content/uploads/2025/07/event-worshipservice-en-sat.jpg
END:VEVENT
BEGIN:VEVENT
DTSTART;TZID=Asia/Singapore:20280416T100000
DTEND;TZID=Asia/Singapore:20280416T111500
DTSTAMP:20260420T152732
CREATED:20250731T062932Z
LAST-MODIFIED:20250731T072107Z
UID:10000407-1839492000-1839496500@beta.qbc.sg
SUMMARY:Worship Service – Sunday (English)
DESCRIPTION:
URL:https://beta.qbc.sg/event/worship-service-sunday-english/2028-04-16/
LOCATION:Agape Sanctuary (L3)\, 495 Margaret Drive\, Singapore\, 149305\, Singapore
CATEGORIES:English,Worship Service
ATTACH;FMTTYPE=image/jpeg:https://beta.qbc.sg/wp-content/uploads/2025/07/event-worshipservice-en-sun.jpg
END:VEVENT
BEGIN:VEVENT
DTSTART;TZID=Asia/Singapore:20280422T190000
DTEND;TZID=Asia/Singapore:20280422T201500
DTSTAMP:20260420T152732
CREATED:20250731T062610Z
LAST-MODIFIED:20250731T072101Z
UID:10000146-1840042800-1840047300@beta.qbc.sg
SUMMARY:Worship Service - Saturday (English)
DESCRIPTION:
URL:https://beta.qbc.sg/event/worship-service-saturday-english/2028-04-22/
LOCATION:Agape Sanctuary (L3)\, 495 Margaret Drive\, Singapore\, 149305\, Singapore
CATEGORIES:English,Worship Service
ATTACH;FMTTYPE=image/jpeg:https://beta.qbc.sg/wp-content/uploads/2025/07/event-worshipservice-en-sat.jpg
END:VEVENT
BEGIN:VEVENT
DTSTART;TZID=Asia/Singapore:20280423T100000
DTEND;TZID=Asia/Singapore:20280423T111500
DTSTAMP:20260420T152732
CREATED:20250731T062932Z
LAST-MODIFIED:20250731T072107Z
UID:10000408-1840096800-1840101300@beta.qbc.sg
SUMMARY:Worship Service – Sunday (English)
DESCRIPTION:
URL:https://beta.qbc.sg/event/worship-service-sunday-english/2028-04-23/
LOCATION:Agape Sanctuary (L3)\, 495 Margaret Drive\, Singapore\, 149305\, Singapore
CATEGORIES:English,Worship Service
ATTACH;FMTTYPE=image/jpeg:https://beta.qbc.sg/wp-content/uploads/2025/07/event-worshipservice-en-sun.jpg
END:VEVENT
END:VCALENDAR