BEGIN:VCALENDAR
VERSION:2.0
PRODID:-//Queenstown Baptist Church  女皇镇浸信教会 - ECPv6.15.18//NONSGML v1.0//EN
CALSCALE:GREGORIAN
METHOD:PUBLISH
X-ORIGINAL-URL:https://beta.qbc.sg
X-WR-CALDESC:Events for Queenstown Baptist Church  女皇镇浸信教会
REFRESH-INTERVAL;VALUE=DURATION:PT1H
X-Robots-Tag:noindex
X-PUBLISHED-TTL:PT1H
BEGIN:VTIMEZONE
TZID:Asia/Singapore
BEGIN:STANDARD
TZOFFSETFROM:+0800
TZOFFSETTO:+0800
TZNAME:+08
DTSTART:20290101T000000
END:STANDARD
END:VTIMEZONE
BEGIN:VEVENT
DTSTART;TZID=Asia/Singapore:20300406T190000
DTEND;TZID=Asia/Singapore:20300406T201500
DTSTAMP:20260424T022415
CREATED:20250731T062610Z
LAST-MODIFIED:20250731T072101Z
UID:10000248-1901732400-1901736900@beta.qbc.sg
SUMMARY:Worship Service - Saturday (English)
DESCRIPTION:
URL:https://beta.qbc.sg/event/worship-service-saturday-english/2030-04-06/
LOCATION:Agape Sanctuary (L3)\, 495 Margaret Drive\, Singapore\, 149305\, Singapore
CATEGORIES:English,Worship Service
ATTACH;FMTTYPE=image/jpeg:https://beta.qbc.sg/wp-content/uploads/2025/07/event-worshipservice-en-sat.jpg
END:VEVENT
BEGIN:VEVENT
DTSTART;TZID=Asia/Singapore:20300407T100000
DTEND;TZID=Asia/Singapore:20300407T111500
DTSTAMP:20260424T022415
CREATED:20250731T062932Z
LAST-MODIFIED:20250731T072107Z
UID:10000510-1901786400-1901790900@beta.qbc.sg
SUMMARY:Worship Service – Sunday (English)
DESCRIPTION:
URL:https://beta.qbc.sg/event/worship-service-sunday-english/2030-04-07/
LOCATION:Agape Sanctuary (L3)\, 495 Margaret Drive\, Singapore\, 149305\, Singapore
CATEGORIES:English,Worship Service
ATTACH;FMTTYPE=image/jpeg:https://beta.qbc.sg/wp-content/uploads/2025/07/event-worshipservice-en-sun.jpg
END:VEVENT
BEGIN:VEVENT
DTSTART;TZID=Asia/Singapore:20300413T190000
DTEND;TZID=Asia/Singapore:20300413T201500
DTSTAMP:20260424T022415
CREATED:20250731T062610Z
LAST-MODIFIED:20250731T072101Z
UID:10000249-1902337200-1902341700@beta.qbc.sg
SUMMARY:Worship Service - Saturday (English)
DESCRIPTION:
URL:https://beta.qbc.sg/event/worship-service-saturday-english/2030-04-13/
LOCATION:Agape Sanctuary (L3)\, 495 Margaret Drive\, Singapore\, 149305\, Singapore
CATEGORIES:English,Worship Service
ATTACH;FMTTYPE=image/jpeg:https://beta.qbc.sg/wp-content/uploads/2025/07/event-worshipservice-en-sat.jpg
END:VEVENT
BEGIN:VEVENT
DTSTART;TZID=Asia/Singapore:20300414T100000
DTEND;TZID=Asia/Singapore:20300414T111500
DTSTAMP:20260424T022415
CREATED:20250731T062932Z
LAST-MODIFIED:20250731T072107Z
UID:10000511-1902391200-1902395700@beta.qbc.sg
SUMMARY:Worship Service – Sunday (English)
DESCRIPTION:
URL:https://beta.qbc.sg/event/worship-service-sunday-english/2030-04-14/
LOCATION:Agape Sanctuary (L3)\, 495 Margaret Drive\, Singapore\, 149305\, Singapore
CATEGORIES:English,Worship Service
ATTACH;FMTTYPE=image/jpeg:https://beta.qbc.sg/wp-content/uploads/2025/07/event-worshipservice-en-sun.jpg
END:VEVENT
BEGIN:VEVENT
DTSTART;TZID=Asia/Singapore:20300420T190000
DTEND;TZID=Asia/Singapore:20300420T201500
DTSTAMP:20260424T022415
CREATED:20250731T062610Z
LAST-MODIFIED:20250731T072101Z
UID:10000250-1902942000-1902946500@beta.qbc.sg
SUMMARY:Worship Service - Saturday (English)
DESCRIPTION:
URL:https://beta.qbc.sg/event/worship-service-saturday-english/2030-04-20/
LOCATION:Agape Sanctuary (L3)\, 495 Margaret Drive\, Singapore\, 149305\, Singapore
CATEGORIES:English,Worship Service
ATTACH;FMTTYPE=image/jpeg:https://beta.qbc.sg/wp-content/uploads/2025/07/event-worshipservice-en-sat.jpg
END:VEVENT
BEGIN:VEVENT
DTSTART;TZID=Asia/Singapore:20300421T100000
DTEND;TZID=Asia/Singapore:20300421T111500
DTSTAMP:20260424T022415
CREATED:20250731T062932Z
LAST-MODIFIED:20250731T072107Z
UID:10000512-1902996000-1903000500@beta.qbc.sg
SUMMARY:Worship Service – Sunday (English)
DESCRIPTION:
URL:https://beta.qbc.sg/event/worship-service-sunday-english/2030-04-21/
LOCATION:Agape Sanctuary (L3)\, 495 Margaret Drive\, Singapore\, 149305\, Singapore
CATEGORIES:English,Worship Service
ATTACH;FMTTYPE=image/jpeg:https://beta.qbc.sg/wp-content/uploads/2025/07/event-worshipservice-en-sun.jpg
END:VEVENT
BEGIN:VEVENT
DTSTART;TZID=Asia/Singapore:20300427T190000
DTEND;TZID=Asia/Singapore:20300427T201500
DTSTAMP:20260424T022415
CREATED:20250731T062610Z
LAST-MODIFIED:20250731T072101Z
UID:10000251-1903546800-1903551300@beta.qbc.sg
SUMMARY:Worship Service - Saturday (English)
DESCRIPTION:
URL:https://beta.qbc.sg/event/worship-service-saturday-english/2030-04-27/
LOCATION:Agape Sanctuary (L3)\, 495 Margaret Drive\, Singapore\, 149305\, Singapore
CATEGORIES:English,Worship Service
ATTACH;FMTTYPE=image/jpeg:https://beta.qbc.sg/wp-content/uploads/2025/07/event-worshipservice-en-sat.jpg
END:VEVENT
BEGIN:VEVENT
DTSTART;TZID=Asia/Singapore:20300428T100000
DTEND;TZID=Asia/Singapore:20300428T111500
DTSTAMP:20260424T022415
CREATED:20250731T062932Z
LAST-MODIFIED:20250731T072107Z
UID:10000513-1903600800-1903605300@beta.qbc.sg
SUMMARY:Worship Service – Sunday (English)
DESCRIPTION:
URL:https://beta.qbc.sg/event/worship-service-sunday-english/2030-04-28/
LOCATION:Agape Sanctuary (L3)\, 495 Margaret Drive\, Singapore\, 149305\, Singapore
CATEGORIES:English,Worship Service
ATTACH;FMTTYPE=image/jpeg:https://beta.qbc.sg/wp-content/uploads/2025/07/event-worshipservice-en-sun.jpg
END:VEVENT
END:VCALENDAR