BEGIN:VCALENDAR
VERSION:2.0
PRODID:-//Queenstown Baptist Church  女皇镇浸信教会 - ECPv6.15.18//NONSGML v1.0//EN
CALSCALE:GREGORIAN
METHOD:PUBLISH
X-ORIGINAL-URL:https://beta.qbc.sg
X-WR-CALDESC:Events for Queenstown Baptist Church  女皇镇浸信教会
REFRESH-INTERVAL;VALUE=DURATION:PT1H
X-Robots-Tag:noindex
X-PUBLISHED-TTL:PT1H
BEGIN:VTIMEZONE
TZID:Asia/Singapore
BEGIN:STANDARD
TZOFFSETFROM:+0800
TZOFFSETTO:+0800
TZNAME:+08
DTSTART:20280101T000000
END:STANDARD
END:VTIMEZONE
BEGIN:VEVENT
DTSTART;TZID=Asia/Singapore:20290505T190000
DTEND;TZID=Asia/Singapore:20290505T201500
DTSTAMP:20260423T125430
CREATED:20250731T062610Z
LAST-MODIFIED:20250731T072101Z
UID:10000200-1872702000-1872706500@beta.qbc.sg
SUMMARY:Worship Service - Saturday (English)
DESCRIPTION:
URL:https://beta.qbc.sg/event/worship-service-saturday-english/2029-05-05/
LOCATION:Agape Sanctuary (L3)\, 495 Margaret Drive\, Singapore\, 149305\, Singapore
CATEGORIES:English,Worship Service
ATTACH;FMTTYPE=image/jpeg:https://beta.qbc.sg/wp-content/uploads/2025/07/event-worshipservice-en-sat.jpg
END:VEVENT
BEGIN:VEVENT
DTSTART;TZID=Asia/Singapore:20290506T100000
DTEND;TZID=Asia/Singapore:20290506T111500
DTSTAMP:20260423T125430
CREATED:20250731T062932Z
LAST-MODIFIED:20250731T072107Z
UID:10000462-1872756000-1872760500@beta.qbc.sg
SUMMARY:Worship Service – Sunday (English)
DESCRIPTION:
URL:https://beta.qbc.sg/event/worship-service-sunday-english/2029-05-06/
LOCATION:Agape Sanctuary (L3)\, 495 Margaret Drive\, Singapore\, 149305\, Singapore
CATEGORIES:English,Worship Service
ATTACH;FMTTYPE=image/jpeg:https://beta.qbc.sg/wp-content/uploads/2025/07/event-worshipservice-en-sun.jpg
END:VEVENT
BEGIN:VEVENT
DTSTART;TZID=Asia/Singapore:20290512T190000
DTEND;TZID=Asia/Singapore:20290512T201500
DTSTAMP:20260423T125430
CREATED:20250731T062610Z
LAST-MODIFIED:20250731T072101Z
UID:10000201-1873306800-1873311300@beta.qbc.sg
SUMMARY:Worship Service - Saturday (English)
DESCRIPTION:
URL:https://beta.qbc.sg/event/worship-service-saturday-english/2029-05-12/
LOCATION:Agape Sanctuary (L3)\, 495 Margaret Drive\, Singapore\, 149305\, Singapore
CATEGORIES:English,Worship Service
ATTACH;FMTTYPE=image/jpeg:https://beta.qbc.sg/wp-content/uploads/2025/07/event-worshipservice-en-sat.jpg
END:VEVENT
BEGIN:VEVENT
DTSTART;TZID=Asia/Singapore:20290513T100000
DTEND;TZID=Asia/Singapore:20290513T111500
DTSTAMP:20260423T125430
CREATED:20250731T062932Z
LAST-MODIFIED:20250731T072107Z
UID:10000463-1873360800-1873365300@beta.qbc.sg
SUMMARY:Worship Service – Sunday (English)
DESCRIPTION:
URL:https://beta.qbc.sg/event/worship-service-sunday-english/2029-05-13/
LOCATION:Agape Sanctuary (L3)\, 495 Margaret Drive\, Singapore\, 149305\, Singapore
CATEGORIES:English,Worship Service
ATTACH;FMTTYPE=image/jpeg:https://beta.qbc.sg/wp-content/uploads/2025/07/event-worshipservice-en-sun.jpg
END:VEVENT
BEGIN:VEVENT
DTSTART;TZID=Asia/Singapore:20290519T190000
DTEND;TZID=Asia/Singapore:20290519T201500
DTSTAMP:20260423T125430
CREATED:20250731T062610Z
LAST-MODIFIED:20250731T072101Z
UID:10000202-1873911600-1873916100@beta.qbc.sg
SUMMARY:Worship Service - Saturday (English)
DESCRIPTION:
URL:https://beta.qbc.sg/event/worship-service-saturday-english/2029-05-19/
LOCATION:Agape Sanctuary (L3)\, 495 Margaret Drive\, Singapore\, 149305\, Singapore
CATEGORIES:English,Worship Service
ATTACH;FMTTYPE=image/jpeg:https://beta.qbc.sg/wp-content/uploads/2025/07/event-worshipservice-en-sat.jpg
END:VEVENT
BEGIN:VEVENT
DTSTART;TZID=Asia/Singapore:20290520T100000
DTEND;TZID=Asia/Singapore:20290520T111500
DTSTAMP:20260423T125430
CREATED:20250731T062932Z
LAST-MODIFIED:20250731T072107Z
UID:10000464-1873965600-1873970100@beta.qbc.sg
SUMMARY:Worship Service – Sunday (English)
DESCRIPTION:
URL:https://beta.qbc.sg/event/worship-service-sunday-english/2029-05-20/
LOCATION:Agape Sanctuary (L3)\, 495 Margaret Drive\, Singapore\, 149305\, Singapore
CATEGORIES:English,Worship Service
ATTACH;FMTTYPE=image/jpeg:https://beta.qbc.sg/wp-content/uploads/2025/07/event-worshipservice-en-sun.jpg
END:VEVENT
BEGIN:VEVENT
DTSTART;TZID=Asia/Singapore:20290526T190000
DTEND;TZID=Asia/Singapore:20290526T201500
DTSTAMP:20260423T125430
CREATED:20250731T062610Z
LAST-MODIFIED:20250731T072101Z
UID:10000203-1874516400-1874520900@beta.qbc.sg
SUMMARY:Worship Service - Saturday (English)
DESCRIPTION:
URL:https://beta.qbc.sg/event/worship-service-saturday-english/2029-05-26/
LOCATION:Agape Sanctuary (L3)\, 495 Margaret Drive\, Singapore\, 149305\, Singapore
CATEGORIES:English,Worship Service
ATTACH;FMTTYPE=image/jpeg:https://beta.qbc.sg/wp-content/uploads/2025/07/event-worshipservice-en-sat.jpg
END:VEVENT
BEGIN:VEVENT
DTSTART;TZID=Asia/Singapore:20290527T100000
DTEND;TZID=Asia/Singapore:20290527T111500
DTSTAMP:20260423T125430
CREATED:20250731T062932Z
LAST-MODIFIED:20250731T072107Z
UID:10000465-1874570400-1874574900@beta.qbc.sg
SUMMARY:Worship Service – Sunday (English)
DESCRIPTION:
URL:https://beta.qbc.sg/event/worship-service-sunday-english/2029-05-27/
LOCATION:Agape Sanctuary (L3)\, 495 Margaret Drive\, Singapore\, 149305\, Singapore
CATEGORIES:English,Worship Service
ATTACH;FMTTYPE=image/jpeg:https://beta.qbc.sg/wp-content/uploads/2025/07/event-worshipservice-en-sun.jpg
END:VEVENT
END:VCALENDAR