BEGIN:VCALENDAR
VERSION:2.0
PRODID:-//Queenstown Baptist Church  女皇镇浸信教会 - ECPv6.15.18//NONSGML v1.0//EN
CALSCALE:GREGORIAN
METHOD:PUBLISH
X-WR-CALNAME:Queenstown Baptist Church  女皇镇浸信教会
X-ORIGINAL-URL:https://beta.qbc.sg
X-WR-CALDESC:Events for Queenstown Baptist Church  女皇镇浸信教会
REFRESH-INTERVAL;VALUE=DURATION:PT1H
X-Robots-Tag:noindex
X-PUBLISHED-TTL:PT1H
BEGIN:VTIMEZONE
TZID:Asia/Singapore
BEGIN:STANDARD
TZOFFSETFROM:+0800
TZOFFSETTO:+0800
TZNAME:+08
DTSTART:20250101T000000
END:STANDARD
END:VTIMEZONE
BEGIN:VEVENT
DTSTART;TZID=Asia/Singapore:20260301T100000
DTEND;TZID=Asia/Singapore:20260301T111500
DTSTAMP:20260421T182827
CREATED:20250731T062932Z
LAST-MODIFIED:20250731T072107Z
UID:10000296-1772359200-1772363700@beta.qbc.sg
SUMMARY:Worship Service – Sunday (English)
DESCRIPTION:
URL:https://beta.qbc.sg/event/worship-service-sunday-english/2026-03-01/
LOCATION:Agape Sanctuary (L3)\, 495 Margaret Drive\, Singapore\, 149305\, Singapore
CATEGORIES:English,Worship Service
ATTACH;FMTTYPE=image/jpeg:https://beta.qbc.sg/wp-content/uploads/2025/07/event-worshipservice-en-sun.jpg
END:VEVENT
BEGIN:VEVENT
DTSTART;TZID=Asia/Singapore:20260307T190000
DTEND;TZID=Asia/Singapore:20260307T201500
DTSTAMP:20260421T182827
CREATED:20250731T062610Z
LAST-MODIFIED:20250731T072101Z
UID:10000035-1772910000-1772914500@beta.qbc.sg
SUMMARY:Worship Service - Saturday (English)
DESCRIPTION:
URL:https://beta.qbc.sg/event/worship-service-saturday-english/2026-03-07/
LOCATION:Agape Sanctuary (L3)\, 495 Margaret Drive\, Singapore\, 149305\, Singapore
CATEGORIES:English,Worship Service
ATTACH;FMTTYPE=image/jpeg:https://beta.qbc.sg/wp-content/uploads/2025/07/event-worshipservice-en-sat.jpg
END:VEVENT
BEGIN:VEVENT
DTSTART;TZID=Asia/Singapore:20260308T100000
DTEND;TZID=Asia/Singapore:20260308T111500
DTSTAMP:20260421T182827
CREATED:20250731T062932Z
LAST-MODIFIED:20250731T072107Z
UID:10000297-1772964000-1772968500@beta.qbc.sg
SUMMARY:Worship Service – Sunday (English)
DESCRIPTION:
URL:https://beta.qbc.sg/event/worship-service-sunday-english/2026-03-08/
LOCATION:Agape Sanctuary (L3)\, 495 Margaret Drive\, Singapore\, 149305\, Singapore
CATEGORIES:English,Worship Service
ATTACH;FMTTYPE=image/jpeg:https://beta.qbc.sg/wp-content/uploads/2025/07/event-worshipservice-en-sun.jpg
END:VEVENT
BEGIN:VEVENT
DTSTART;TZID=Asia/Singapore:20260314T190000
DTEND;TZID=Asia/Singapore:20260314T201500
DTSTAMP:20260421T182827
CREATED:20250731T062610Z
LAST-MODIFIED:20250731T072101Z
UID:10000036-1773514800-1773519300@beta.qbc.sg
SUMMARY:Worship Service - Saturday (English)
DESCRIPTION:
URL:https://beta.qbc.sg/event/worship-service-saturday-english/2026-03-14/
LOCATION:Agape Sanctuary (L3)\, 495 Margaret Drive\, Singapore\, 149305\, Singapore
CATEGORIES:English,Worship Service
ATTACH;FMTTYPE=image/jpeg:https://beta.qbc.sg/wp-content/uploads/2025/07/event-worshipservice-en-sat.jpg
END:VEVENT
BEGIN:VEVENT
DTSTART;TZID=Asia/Singapore:20260315T100000
DTEND;TZID=Asia/Singapore:20260315T111500
DTSTAMP:20260421T182827
CREATED:20250731T062932Z
LAST-MODIFIED:20250731T072107Z
UID:10000298-1773568800-1773573300@beta.qbc.sg
SUMMARY:Worship Service – Sunday (English)
DESCRIPTION:
URL:https://beta.qbc.sg/event/worship-service-sunday-english/2026-03-15/
LOCATION:Agape Sanctuary (L3)\, 495 Margaret Drive\, Singapore\, 149305\, Singapore
CATEGORIES:English,Worship Service
ATTACH;FMTTYPE=image/jpeg:https://beta.qbc.sg/wp-content/uploads/2025/07/event-worshipservice-en-sun.jpg
END:VEVENT
BEGIN:VEVENT
DTSTART;TZID=Asia/Singapore:20260321T190000
DTEND;TZID=Asia/Singapore:20260321T201500
DTSTAMP:20260421T182827
CREATED:20250731T062610Z
LAST-MODIFIED:20250731T072101Z
UID:10000037-1774119600-1774124100@beta.qbc.sg
SUMMARY:Worship Service - Saturday (English)
DESCRIPTION:
URL:https://beta.qbc.sg/event/worship-service-saturday-english/2026-03-21/
LOCATION:Agape Sanctuary (L3)\, 495 Margaret Drive\, Singapore\, 149305\, Singapore
CATEGORIES:English,Worship Service
ATTACH;FMTTYPE=image/jpeg:https://beta.qbc.sg/wp-content/uploads/2025/07/event-worshipservice-en-sat.jpg
END:VEVENT
BEGIN:VEVENT
DTSTART;TZID=Asia/Singapore:20260322T100000
DTEND;TZID=Asia/Singapore:20260322T111500
DTSTAMP:20260421T182827
CREATED:20250731T062932Z
LAST-MODIFIED:20250731T072107Z
UID:10000299-1774173600-1774178100@beta.qbc.sg
SUMMARY:Worship Service – Sunday (English)
DESCRIPTION:
URL:https://beta.qbc.sg/event/worship-service-sunday-english/2026-03-22/
LOCATION:Agape Sanctuary (L3)\, 495 Margaret Drive\, Singapore\, 149305\, Singapore
CATEGORIES:English,Worship Service
ATTACH;FMTTYPE=image/jpeg:https://beta.qbc.sg/wp-content/uploads/2025/07/event-worshipservice-en-sun.jpg
END:VEVENT
BEGIN:VEVENT
DTSTART;TZID=Asia/Singapore:20260328T190000
DTEND;TZID=Asia/Singapore:20260328T201500
DTSTAMP:20260421T182827
CREATED:20250731T062610Z
LAST-MODIFIED:20250731T072101Z
UID:10000038-1774724400-1774728900@beta.qbc.sg
SUMMARY:Worship Service - Saturday (English)
DESCRIPTION:
URL:https://beta.qbc.sg/event/worship-service-saturday-english/2026-03-28/
LOCATION:Agape Sanctuary (L3)\, 495 Margaret Drive\, Singapore\, 149305\, Singapore
CATEGORIES:English,Worship Service
ATTACH;FMTTYPE=image/jpeg:https://beta.qbc.sg/wp-content/uploads/2025/07/event-worshipservice-en-sat.jpg
END:VEVENT
BEGIN:VEVENT
DTSTART;TZID=Asia/Singapore:20260329T100000
DTEND;TZID=Asia/Singapore:20260329T111500
DTSTAMP:20260421T182827
CREATED:20250731T062932Z
LAST-MODIFIED:20250731T072107Z
UID:10000300-1774778400-1774782900@beta.qbc.sg
SUMMARY:Worship Service – Sunday (English)
DESCRIPTION:
URL:https://beta.qbc.sg/event/worship-service-sunday-english/2026-03-29/
LOCATION:Agape Sanctuary (L3)\, 495 Margaret Drive\, Singapore\, 149305\, Singapore
CATEGORIES:English,Worship Service
ATTACH;FMTTYPE=image/jpeg:https://beta.qbc.sg/wp-content/uploads/2025/07/event-worshipservice-en-sun.jpg
END:VEVENT
END:VCALENDAR