BEGIN:VCALENDAR
VERSION:2.0
PRODID:-//Queenstown Baptist Church  女皇镇浸信教会 - ECPv6.15.18//NONSGML v1.0//EN
CALSCALE:GREGORIAN
METHOD:PUBLISH
X-ORIGINAL-URL:https://beta.qbc.sg
X-WR-CALDESC:Events for Queenstown Baptist Church  女皇镇浸信教会
REFRESH-INTERVAL;VALUE=DURATION:PT1H
X-Robots-Tag:noindex
X-PUBLISHED-TTL:PT1H
BEGIN:VTIMEZONE
TZID:Asia/Singapore
BEGIN:STANDARD
TZOFFSETFROM:+0800
TZOFFSETTO:+0800
TZNAME:+08
DTSTART:20250101T000000
END:STANDARD
END:VTIMEZONE
BEGIN:VEVENT
DTSTART;TZID=Asia/Singapore:20260912T140000
DTEND;TZID=Asia/Singapore:20260913T113000
DTSTAMP:20260424T054925
CREATED:20260423T093239Z
LAST-MODIFIED:20260423T093239Z
UID:10000812-1789221600-1789299000@beta.qbc.sg
SUMMARY:Church as the Platform of God’s Glory 共建上帝荣耀的教会 | Mission Conference 宣教大会 2026
DESCRIPTION:
URL:https://beta.qbc.sg/event/church-as-the-platform-of-gods-glory-%e5%85%b1%e5%bb%ba%e4%b8%8a%e5%b8%9d%e8%8d%a3%e8%80%80%e7%9a%84%e6%95%99%e4%bc%9a-mission-conference-%e5%ae%a3%e6%95%99%e5%a4%a7%e4%bc%9a-2026/
LOCATION:Queenstown Baptist Church\, 495 Margaret Drive\, Singapore\, Singapore\, 149305\, Singapore
CATEGORIES:Mission Conference
ATTACH;FMTTYPE=image/jpeg:https://beta.qbc.sg/wp-content/uploads/2026/04/main-scaled.jpg
END:VEVENT
END:VCALENDAR