BEGIN:VCALENDAR
VERSION:2.0
PRODID:-//Queenstown Baptist Church  女皇镇浸信教会 - ECPv6.15.18//NONSGML v1.0//EN
CALSCALE:GREGORIAN
METHOD:PUBLISH
X-ORIGINAL-URL:https://beta.qbc.sg
X-WR-CALDESC:Events for Queenstown Baptist Church  女皇镇浸信教会
REFRESH-INTERVAL;VALUE=DURATION:PT1H
X-Robots-Tag:noindex
X-PUBLISHED-TTL:PT1H
BEGIN:VTIMEZONE
TZID:Asia/Singapore
BEGIN:STANDARD
TZOFFSETFROM:+0800
TZOFFSETTO:+0800
TZNAME:+08
DTSTART:20270101T000000
END:STANDARD
END:VTIMEZONE
BEGIN:VEVENT
DTSTART;TZID=Asia/Singapore:20280226T190000
DTEND;TZID=Asia/Singapore:20280226T201500
DTSTAMP:20260424T005800
CREATED:20250731T062610Z
LAST-MODIFIED:20250731T072101Z
UID:10000138-1835204400-1835208900@beta.qbc.sg
SUMMARY:Worship Service - Saturday (English)
DESCRIPTION:
URL:https://beta.qbc.sg/event/worship-service-saturday-english/2028-02-26/
LOCATION:Agape Sanctuary (L3)\, 495 Margaret Drive\, Singapore\, 149305\, Singapore
CATEGORIES:English,Worship Service
ATTACH;FMTTYPE=image/jpeg:https://beta.qbc.sg/wp-content/uploads/2025/07/event-worshipservice-en-sat.jpg
END:VEVENT
BEGIN:VEVENT
DTSTART;TZID=Asia/Singapore:20280304T190000
DTEND;TZID=Asia/Singapore:20280304T201500
DTSTAMP:20260424T005800
CREATED:20250731T062610Z
LAST-MODIFIED:20250731T072101Z
UID:10000139-1835809200-1835813700@beta.qbc.sg
SUMMARY:Worship Service - Saturday (English)
DESCRIPTION:
URL:https://beta.qbc.sg/event/worship-service-saturday-english/2028-03-04/
LOCATION:Agape Sanctuary (L3)\, 495 Margaret Drive\, Singapore\, 149305\, Singapore
CATEGORIES:English,Worship Service
ATTACH;FMTTYPE=image/jpeg:https://beta.qbc.sg/wp-content/uploads/2025/07/event-worshipservice-en-sat.jpg
END:VEVENT
BEGIN:VEVENT
DTSTART;TZID=Asia/Singapore:20280311T190000
DTEND;TZID=Asia/Singapore:20280311T201500
DTSTAMP:20260424T005800
CREATED:20250731T062610Z
LAST-MODIFIED:20250731T072101Z
UID:10000140-1836414000-1836418500@beta.qbc.sg
SUMMARY:Worship Service - Saturday (English)
DESCRIPTION:
URL:https://beta.qbc.sg/event/worship-service-saturday-english/2028-03-11/
LOCATION:Agape Sanctuary (L3)\, 495 Margaret Drive\, Singapore\, 149305\, Singapore
CATEGORIES:English,Worship Service
ATTACH;FMTTYPE=image/jpeg:https://beta.qbc.sg/wp-content/uploads/2025/07/event-worshipservice-en-sat.jpg
END:VEVENT
BEGIN:VEVENT
DTSTART;TZID=Asia/Singapore:20280318T190000
DTEND;TZID=Asia/Singapore:20280318T201500
DTSTAMP:20260424T005800
CREATED:20250731T062610Z
LAST-MODIFIED:20250731T072101Z
UID:10000141-1837018800-1837023300@beta.qbc.sg
SUMMARY:Worship Service - Saturday (English)
DESCRIPTION:
URL:https://beta.qbc.sg/event/worship-service-saturday-english/2028-03-18/
LOCATION:Agape Sanctuary (L3)\, 495 Margaret Drive\, Singapore\, 149305\, Singapore
CATEGORIES:English,Worship Service
ATTACH;FMTTYPE=image/jpeg:https://beta.qbc.sg/wp-content/uploads/2025/07/event-worshipservice-en-sat.jpg
END:VEVENT
BEGIN:VEVENT
DTSTART;TZID=Asia/Singapore:20280325T190000
DTEND;TZID=Asia/Singapore:20280325T201500
DTSTAMP:20260424T005800
CREATED:20250731T062610Z
LAST-MODIFIED:20250731T072101Z
UID:10000142-1837623600-1837628100@beta.qbc.sg
SUMMARY:Worship Service - Saturday (English)
DESCRIPTION:
URL:https://beta.qbc.sg/event/worship-service-saturday-english/2028-03-25/
LOCATION:Agape Sanctuary (L3)\, 495 Margaret Drive\, Singapore\, 149305\, Singapore
CATEGORIES:English,Worship Service
ATTACH;FMTTYPE=image/jpeg:https://beta.qbc.sg/wp-content/uploads/2025/07/event-worshipservice-en-sat.jpg
END:VEVENT
BEGIN:VEVENT
DTSTART;TZID=Asia/Singapore:20280401T190000
DTEND;TZID=Asia/Singapore:20280401T201500
DTSTAMP:20260424T005800
CREATED:20250731T062610Z
LAST-MODIFIED:20250731T072101Z
UID:10000143-1838228400-1838232900@beta.qbc.sg
SUMMARY:Worship Service - Saturday (English)
DESCRIPTION:
URL:https://beta.qbc.sg/event/worship-service-saturday-english/2028-04-01/
LOCATION:Agape Sanctuary (L3)\, 495 Margaret Drive\, Singapore\, 149305\, Singapore
CATEGORIES:English,Worship Service
ATTACH;FMTTYPE=image/jpeg:https://beta.qbc.sg/wp-content/uploads/2025/07/event-worshipservice-en-sat.jpg
END:VEVENT
BEGIN:VEVENT
DTSTART;TZID=Asia/Singapore:20280408T190000
DTEND;TZID=Asia/Singapore:20280408T201500
DTSTAMP:20260424T005800
CREATED:20250731T062610Z
LAST-MODIFIED:20250731T072101Z
UID:10000144-1838833200-1838837700@beta.qbc.sg
SUMMARY:Worship Service - Saturday (English)
DESCRIPTION:
URL:https://beta.qbc.sg/event/worship-service-saturday-english/2028-04-08/
LOCATION:Agape Sanctuary (L3)\, 495 Margaret Drive\, Singapore\, 149305\, Singapore
CATEGORIES:English,Worship Service
ATTACH;FMTTYPE=image/jpeg:https://beta.qbc.sg/wp-content/uploads/2025/07/event-worshipservice-en-sat.jpg
END:VEVENT
BEGIN:VEVENT
DTSTART;TZID=Asia/Singapore:20280415T190000
DTEND;TZID=Asia/Singapore:20280415T201500
DTSTAMP:20260424T005800
CREATED:20250731T062610Z
LAST-MODIFIED:20250731T072101Z
UID:10000145-1839438000-1839442500@beta.qbc.sg
SUMMARY:Worship Service - Saturday (English)
DESCRIPTION:
URL:https://beta.qbc.sg/event/worship-service-saturday-english/2028-04-15/
LOCATION:Agape Sanctuary (L3)\, 495 Margaret Drive\, Singapore\, 149305\, Singapore
CATEGORIES:English,Worship Service
ATTACH;FMTTYPE=image/jpeg:https://beta.qbc.sg/wp-content/uploads/2025/07/event-worshipservice-en-sat.jpg
END:VEVENT
BEGIN:VEVENT
DTSTART;TZID=Asia/Singapore:20280422T190000
DTEND;TZID=Asia/Singapore:20280422T201500
DTSTAMP:20260424T005800
CREATED:20250731T062610Z
LAST-MODIFIED:20250731T072101Z
UID:10000146-1840042800-1840047300@beta.qbc.sg
SUMMARY:Worship Service - Saturday (English)
DESCRIPTION:
URL:https://beta.qbc.sg/event/worship-service-saturday-english/2028-04-22/
LOCATION:Agape Sanctuary (L3)\, 495 Margaret Drive\, Singapore\, 149305\, Singapore
CATEGORIES:English,Worship Service
ATTACH;FMTTYPE=image/jpeg:https://beta.qbc.sg/wp-content/uploads/2025/07/event-worshipservice-en-sat.jpg
END:VEVENT
BEGIN:VEVENT
DTSTART;TZID=Asia/Singapore:20280429T190000
DTEND;TZID=Asia/Singapore:20280429T201500
DTSTAMP:20260424T005800
CREATED:20250731T062610Z
LAST-MODIFIED:20250731T072101Z
UID:10000147-1840647600-1840652100@beta.qbc.sg
SUMMARY:Worship Service - Saturday (English)
DESCRIPTION:
URL:https://beta.qbc.sg/event/worship-service-saturday-english/2028-04-29/
LOCATION:Agape Sanctuary (L3)\, 495 Margaret Drive\, Singapore\, 149305\, Singapore
CATEGORIES:English,Worship Service
ATTACH;FMTTYPE=image/jpeg:https://beta.qbc.sg/wp-content/uploads/2025/07/event-worshipservice-en-sat.jpg
END:VEVENT
BEGIN:VEVENT
DTSTART;TZID=Asia/Singapore:20280506T190000
DTEND;TZID=Asia/Singapore:20280506T201500
DTSTAMP:20260424T005800
CREATED:20250731T062610Z
LAST-MODIFIED:20250731T072101Z
UID:10000148-1841252400-1841256900@beta.qbc.sg
SUMMARY:Worship Service - Saturday (English)
DESCRIPTION:
URL:https://beta.qbc.sg/event/worship-service-saturday-english/2028-05-06/
LOCATION:Agape Sanctuary (L3)\, 495 Margaret Drive\, Singapore\, 149305\, Singapore
CATEGORIES:English,Worship Service
ATTACH;FMTTYPE=image/jpeg:https://beta.qbc.sg/wp-content/uploads/2025/07/event-worshipservice-en-sat.jpg
END:VEVENT
BEGIN:VEVENT
DTSTART;TZID=Asia/Singapore:20280513T190000
DTEND;TZID=Asia/Singapore:20280513T201500
DTSTAMP:20260424T005800
CREATED:20250731T062610Z
LAST-MODIFIED:20250731T072101Z
UID:10000149-1841857200-1841861700@beta.qbc.sg
SUMMARY:Worship Service - Saturday (English)
DESCRIPTION:
URL:https://beta.qbc.sg/event/worship-service-saturday-english/2028-05-13/
LOCATION:Agape Sanctuary (L3)\, 495 Margaret Drive\, Singapore\, 149305\, Singapore
CATEGORIES:English,Worship Service
ATTACH;FMTTYPE=image/jpeg:https://beta.qbc.sg/wp-content/uploads/2025/07/event-worshipservice-en-sat.jpg
END:VEVENT
BEGIN:VEVENT
DTSTART;TZID=Asia/Singapore:20280520T190000
DTEND;TZID=Asia/Singapore:20280520T201500
DTSTAMP:20260424T005800
CREATED:20250731T062610Z
LAST-MODIFIED:20250731T072101Z
UID:10000150-1842462000-1842466500@beta.qbc.sg
SUMMARY:Worship Service - Saturday (English)
DESCRIPTION:
URL:https://beta.qbc.sg/event/worship-service-saturday-english/2028-05-20/
LOCATION:Agape Sanctuary (L3)\, 495 Margaret Drive\, Singapore\, 149305\, Singapore
CATEGORIES:English,Worship Service
ATTACH;FMTTYPE=image/jpeg:https://beta.qbc.sg/wp-content/uploads/2025/07/event-worshipservice-en-sat.jpg
END:VEVENT
BEGIN:VEVENT
DTSTART;TZID=Asia/Singapore:20280527T190000
DTEND;TZID=Asia/Singapore:20280527T201500
DTSTAMP:20260424T005800
CREATED:20250731T062610Z
LAST-MODIFIED:20250731T072101Z
UID:10000151-1843066800-1843071300@beta.qbc.sg
SUMMARY:Worship Service - Saturday (English)
DESCRIPTION:
URL:https://beta.qbc.sg/event/worship-service-saturday-english/2028-05-27/
LOCATION:Agape Sanctuary (L3)\, 495 Margaret Drive\, Singapore\, 149305\, Singapore
CATEGORIES:English,Worship Service
ATTACH;FMTTYPE=image/jpeg:https://beta.qbc.sg/wp-content/uploads/2025/07/event-worshipservice-en-sat.jpg
END:VEVENT
BEGIN:VEVENT
DTSTART;TZID=Asia/Singapore:20280603T190000
DTEND;TZID=Asia/Singapore:20280603T201500
DTSTAMP:20260424T005800
CREATED:20250731T062610Z
LAST-MODIFIED:20250731T072101Z
UID:10000152-1843671600-1843676100@beta.qbc.sg
SUMMARY:Worship Service - Saturday (English)
DESCRIPTION:
URL:https://beta.qbc.sg/event/worship-service-saturday-english/2028-06-03/
LOCATION:Agape Sanctuary (L3)\, 495 Margaret Drive\, Singapore\, 149305\, Singapore
CATEGORIES:English,Worship Service
ATTACH;FMTTYPE=image/jpeg:https://beta.qbc.sg/wp-content/uploads/2025/07/event-worshipservice-en-sat.jpg
END:VEVENT
BEGIN:VEVENT
DTSTART;TZID=Asia/Singapore:20280610T190000
DTEND;TZID=Asia/Singapore:20280610T201500
DTSTAMP:20260424T005800
CREATED:20250731T062610Z
LAST-MODIFIED:20250731T072101Z
UID:10000153-1844276400-1844280900@beta.qbc.sg
SUMMARY:Worship Service - Saturday (English)
DESCRIPTION:
URL:https://beta.qbc.sg/event/worship-service-saturday-english/2028-06-10/
LOCATION:Agape Sanctuary (L3)\, 495 Margaret Drive\, Singapore\, 149305\, Singapore
CATEGORIES:English,Worship Service
ATTACH;FMTTYPE=image/jpeg:https://beta.qbc.sg/wp-content/uploads/2025/07/event-worshipservice-en-sat.jpg
END:VEVENT
BEGIN:VEVENT
DTSTART;TZID=Asia/Singapore:20280617T190000
DTEND;TZID=Asia/Singapore:20280617T201500
DTSTAMP:20260424T005800
CREATED:20250731T062610Z
LAST-MODIFIED:20250731T072101Z
UID:10000154-1844881200-1844885700@beta.qbc.sg
SUMMARY:Worship Service - Saturday (English)
DESCRIPTION:
URL:https://beta.qbc.sg/event/worship-service-saturday-english/2028-06-17/
LOCATION:Agape Sanctuary (L3)\, 495 Margaret Drive\, Singapore\, 149305\, Singapore
CATEGORIES:English,Worship Service
ATTACH;FMTTYPE=image/jpeg:https://beta.qbc.sg/wp-content/uploads/2025/07/event-worshipservice-en-sat.jpg
END:VEVENT
BEGIN:VEVENT
DTSTART;TZID=Asia/Singapore:20280624T190000
DTEND;TZID=Asia/Singapore:20280624T201500
DTSTAMP:20260424T005800
CREATED:20250731T062610Z
LAST-MODIFIED:20250731T072101Z
UID:10000155-1845486000-1845490500@beta.qbc.sg
SUMMARY:Worship Service - Saturday (English)
DESCRIPTION:
URL:https://beta.qbc.sg/event/worship-service-saturday-english/2028-06-24/
LOCATION:Agape Sanctuary (L3)\, 495 Margaret Drive\, Singapore\, 149305\, Singapore
CATEGORIES:English,Worship Service
ATTACH;FMTTYPE=image/jpeg:https://beta.qbc.sg/wp-content/uploads/2025/07/event-worshipservice-en-sat.jpg
END:VEVENT
BEGIN:VEVENT
DTSTART;TZID=Asia/Singapore:20280701T190000
DTEND;TZID=Asia/Singapore:20280701T201500
DTSTAMP:20260424T005800
CREATED:20250731T062610Z
LAST-MODIFIED:20250731T072101Z
UID:10000156-1846090800-1846095300@beta.qbc.sg
SUMMARY:Worship Service - Saturday (English)
DESCRIPTION:
URL:https://beta.qbc.sg/event/worship-service-saturday-english/2028-07-01/
LOCATION:Agape Sanctuary (L3)\, 495 Margaret Drive\, Singapore\, 149305\, Singapore
CATEGORIES:English,Worship Service
ATTACH;FMTTYPE=image/jpeg:https://beta.qbc.sg/wp-content/uploads/2025/07/event-worshipservice-en-sat.jpg
END:VEVENT
BEGIN:VEVENT
DTSTART;TZID=Asia/Singapore:20280708T190000
DTEND;TZID=Asia/Singapore:20280708T201500
DTSTAMP:20260424T005800
CREATED:20250731T062610Z
LAST-MODIFIED:20250731T072101Z
UID:10000157-1846695600-1846700100@beta.qbc.sg
SUMMARY:Worship Service - Saturday (English)
DESCRIPTION:
URL:https://beta.qbc.sg/event/worship-service-saturday-english/2028-07-08/
LOCATION:Agape Sanctuary (L3)\, 495 Margaret Drive\, Singapore\, 149305\, Singapore
CATEGORIES:English,Worship Service
ATTACH;FMTTYPE=image/jpeg:https://beta.qbc.sg/wp-content/uploads/2025/07/event-worshipservice-en-sat.jpg
END:VEVENT
BEGIN:VEVENT
DTSTART;TZID=Asia/Singapore:20280715T190000
DTEND;TZID=Asia/Singapore:20280715T201500
DTSTAMP:20260424T005800
CREATED:20250731T062610Z
LAST-MODIFIED:20250731T072101Z
UID:10000158-1847300400-1847304900@beta.qbc.sg
SUMMARY:Worship Service - Saturday (English)
DESCRIPTION:
URL:https://beta.qbc.sg/event/worship-service-saturday-english/2028-07-15/
LOCATION:Agape Sanctuary (L3)\, 495 Margaret Drive\, Singapore\, 149305\, Singapore
CATEGORIES:English,Worship Service
ATTACH;FMTTYPE=image/jpeg:https://beta.qbc.sg/wp-content/uploads/2025/07/event-worshipservice-en-sat.jpg
END:VEVENT
BEGIN:VEVENT
DTSTART;TZID=Asia/Singapore:20280722T190000
DTEND;TZID=Asia/Singapore:20280722T201500
DTSTAMP:20260424T005800
CREATED:20250731T062610Z
LAST-MODIFIED:20250731T072101Z
UID:10000159-1847905200-1847909700@beta.qbc.sg
SUMMARY:Worship Service - Saturday (English)
DESCRIPTION:
URL:https://beta.qbc.sg/event/worship-service-saturday-english/2028-07-22/
LOCATION:Agape Sanctuary (L3)\, 495 Margaret Drive\, Singapore\, 149305\, Singapore
CATEGORIES:English,Worship Service
ATTACH;FMTTYPE=image/jpeg:https://beta.qbc.sg/wp-content/uploads/2025/07/event-worshipservice-en-sat.jpg
END:VEVENT
BEGIN:VEVENT
DTSTART;TZID=Asia/Singapore:20280729T190000
DTEND;TZID=Asia/Singapore:20280729T201500
DTSTAMP:20260424T005800
CREATED:20250731T062610Z
LAST-MODIFIED:20250731T072101Z
UID:10000160-1848510000-1848514500@beta.qbc.sg
SUMMARY:Worship Service - Saturday (English)
DESCRIPTION:
URL:https://beta.qbc.sg/event/worship-service-saturday-english/2028-07-29/
LOCATION:Agape Sanctuary (L3)\, 495 Margaret Drive\, Singapore\, 149305\, Singapore
CATEGORIES:English,Worship Service
ATTACH;FMTTYPE=image/jpeg:https://beta.qbc.sg/wp-content/uploads/2025/07/event-worshipservice-en-sat.jpg
END:VEVENT
BEGIN:VEVENT
DTSTART;TZID=Asia/Singapore:20280805T190000
DTEND;TZID=Asia/Singapore:20280805T201500
DTSTAMP:20260424T005800
CREATED:20250731T062610Z
LAST-MODIFIED:20250731T072101Z
UID:10000161-1849114800-1849119300@beta.qbc.sg
SUMMARY:Worship Service - Saturday (English)
DESCRIPTION:
URL:https://beta.qbc.sg/event/worship-service-saturday-english/2028-08-05/
LOCATION:Agape Sanctuary (L3)\, 495 Margaret Drive\, Singapore\, 149305\, Singapore
CATEGORIES:English,Worship Service
ATTACH;FMTTYPE=image/jpeg:https://beta.qbc.sg/wp-content/uploads/2025/07/event-worshipservice-en-sat.jpg
END:VEVENT
BEGIN:VEVENT
DTSTART;TZID=Asia/Singapore:20280812T190000
DTEND;TZID=Asia/Singapore:20280812T201500
DTSTAMP:20260424T005800
CREATED:20250731T062610Z
LAST-MODIFIED:20250731T072101Z
UID:10000162-1849719600-1849724100@beta.qbc.sg
SUMMARY:Worship Service - Saturday (English)
DESCRIPTION:
URL:https://beta.qbc.sg/event/worship-service-saturday-english/2028-08-12/
LOCATION:Agape Sanctuary (L3)\, 495 Margaret Drive\, Singapore\, 149305\, Singapore
CATEGORIES:English,Worship Service
ATTACH;FMTTYPE=image/jpeg:https://beta.qbc.sg/wp-content/uploads/2025/07/event-worshipservice-en-sat.jpg
END:VEVENT
BEGIN:VEVENT
DTSTART;TZID=Asia/Singapore:20280819T190000
DTEND;TZID=Asia/Singapore:20280819T201500
DTSTAMP:20260424T005800
CREATED:20250731T062610Z
LAST-MODIFIED:20250731T072101Z
UID:10000163-1850324400-1850328900@beta.qbc.sg
SUMMARY:Worship Service - Saturday (English)
DESCRIPTION:
URL:https://beta.qbc.sg/event/worship-service-saturday-english/2028-08-19/
LOCATION:Agape Sanctuary (L3)\, 495 Margaret Drive\, Singapore\, 149305\, Singapore
CATEGORIES:English,Worship Service
ATTACH;FMTTYPE=image/jpeg:https://beta.qbc.sg/wp-content/uploads/2025/07/event-worshipservice-en-sat.jpg
END:VEVENT
BEGIN:VEVENT
DTSTART;TZID=Asia/Singapore:20280826T190000
DTEND;TZID=Asia/Singapore:20280826T201500
DTSTAMP:20260424T005800
CREATED:20250731T062610Z
LAST-MODIFIED:20250731T072101Z
UID:10000164-1850929200-1850933700@beta.qbc.sg
SUMMARY:Worship Service - Saturday (English)
DESCRIPTION:
URL:https://beta.qbc.sg/event/worship-service-saturday-english/2028-08-26/
LOCATION:Agape Sanctuary (L3)\, 495 Margaret Drive\, Singapore\, 149305\, Singapore
CATEGORIES:English,Worship Service
ATTACH;FMTTYPE=image/jpeg:https://beta.qbc.sg/wp-content/uploads/2025/07/event-worshipservice-en-sat.jpg
END:VEVENT
BEGIN:VEVENT
DTSTART;TZID=Asia/Singapore:20280902T190000
DTEND;TZID=Asia/Singapore:20280902T201500
DTSTAMP:20260424T005800
CREATED:20250731T062610Z
LAST-MODIFIED:20250731T072101Z
UID:10000165-1851534000-1851538500@beta.qbc.sg
SUMMARY:Worship Service - Saturday (English)
DESCRIPTION:
URL:https://beta.qbc.sg/event/worship-service-saturday-english/2028-09-02/
LOCATION:Agape Sanctuary (L3)\, 495 Margaret Drive\, Singapore\, 149305\, Singapore
CATEGORIES:English,Worship Service
ATTACH;FMTTYPE=image/jpeg:https://beta.qbc.sg/wp-content/uploads/2025/07/event-worshipservice-en-sat.jpg
END:VEVENT
BEGIN:VEVENT
DTSTART;TZID=Asia/Singapore:20280909T190000
DTEND;TZID=Asia/Singapore:20280909T201500
DTSTAMP:20260424T005800
CREATED:20250731T062610Z
LAST-MODIFIED:20250731T072101Z
UID:10000166-1852138800-1852143300@beta.qbc.sg
SUMMARY:Worship Service - Saturday (English)
DESCRIPTION:
URL:https://beta.qbc.sg/event/worship-service-saturday-english/2028-09-09/
LOCATION:Agape Sanctuary (L3)\, 495 Margaret Drive\, Singapore\, 149305\, Singapore
CATEGORIES:English,Worship Service
ATTACH;FMTTYPE=image/jpeg:https://beta.qbc.sg/wp-content/uploads/2025/07/event-worshipservice-en-sat.jpg
END:VEVENT
BEGIN:VEVENT
DTSTART;TZID=Asia/Singapore:20280916T190000
DTEND;TZID=Asia/Singapore:20280916T201500
DTSTAMP:20260424T005800
CREATED:20250731T062610Z
LAST-MODIFIED:20250731T072101Z
UID:10000167-1852743600-1852748100@beta.qbc.sg
SUMMARY:Worship Service - Saturday (English)
DESCRIPTION:
URL:https://beta.qbc.sg/event/worship-service-saturday-english/2028-09-16/
LOCATION:Agape Sanctuary (L3)\, 495 Margaret Drive\, Singapore\, 149305\, Singapore
CATEGORIES:English,Worship Service
ATTACH;FMTTYPE=image/jpeg:https://beta.qbc.sg/wp-content/uploads/2025/07/event-worshipservice-en-sat.jpg
END:VEVENT
END:VCALENDAR