BEGIN:VCALENDAR
VERSION:2.0
PRODID:-//Queenstown Baptist Church  女皇镇浸信教会 - ECPv6.15.18//NONSGML v1.0//EN
CALSCALE:GREGORIAN
METHOD:PUBLISH
X-WR-CALNAME:Queenstown Baptist Church  女皇镇浸信教会
X-ORIGINAL-URL:https://beta.qbc.sg
X-WR-CALDESC:Events for Queenstown Baptist Church  女皇镇浸信教会
REFRESH-INTERVAL;VALUE=DURATION:PT1H
X-Robots-Tag:noindex
X-PUBLISHED-TTL:PT1H
BEGIN:VTIMEZONE
TZID:Asia/Singapore
BEGIN:STANDARD
TZOFFSETFROM:+0800
TZOFFSETTO:+0800
TZNAME:+08
DTSTART:20250101T000000
END:STANDARD
END:VTIMEZONE
BEGIN:VEVENT
DTSTART;TZID=Asia/Singapore:20261010T190000
DTEND;TZID=Asia/Singapore:20261010T201500
DTSTAMP:20260423T173944
CREATED:20250731T062610Z
LAST-MODIFIED:20250731T072101Z
UID:10000066-1791658800-1791663300@beta.qbc.sg
SUMMARY:Worship Service - Saturday (English)
DESCRIPTION:
URL:https://beta.qbc.sg/event/worship-service-saturday-english/2026-10-10/
LOCATION:Agape Sanctuary (L3)\, 495 Margaret Drive\, Singapore\, 149305\, Singapore
CATEGORIES:English,Worship Service
ATTACH;FMTTYPE=image/jpeg:https://beta.qbc.sg/wp-content/uploads/2025/07/event-worshipservice-en-sat.jpg
END:VEVENT
BEGIN:VEVENT
DTSTART;TZID=Asia/Singapore:20261017T190000
DTEND;TZID=Asia/Singapore:20261017T201500
DTSTAMP:20260423T173944
CREATED:20250731T062610Z
LAST-MODIFIED:20250731T072101Z
UID:10000067-1792263600-1792268100@beta.qbc.sg
SUMMARY:Worship Service - Saturday (English)
DESCRIPTION:
URL:https://beta.qbc.sg/event/worship-service-saturday-english/2026-10-17/
LOCATION:Agape Sanctuary (L3)\, 495 Margaret Drive\, Singapore\, 149305\, Singapore
CATEGORIES:English,Worship Service
ATTACH;FMTTYPE=image/jpeg:https://beta.qbc.sg/wp-content/uploads/2025/07/event-worshipservice-en-sat.jpg
END:VEVENT
BEGIN:VEVENT
DTSTART;TZID=Asia/Singapore:20261024T190000
DTEND;TZID=Asia/Singapore:20261024T201500
DTSTAMP:20260423T173944
CREATED:20250731T062610Z
LAST-MODIFIED:20250731T072101Z
UID:10000068-1792868400-1792872900@beta.qbc.sg
SUMMARY:Worship Service - Saturday (English)
DESCRIPTION:
URL:https://beta.qbc.sg/event/worship-service-saturday-english/2026-10-24/
LOCATION:Agape Sanctuary (L3)\, 495 Margaret Drive\, Singapore\, 149305\, Singapore
CATEGORIES:English,Worship Service
ATTACH;FMTTYPE=image/jpeg:https://beta.qbc.sg/wp-content/uploads/2025/07/event-worshipservice-en-sat.jpg
END:VEVENT
BEGIN:VEVENT
DTSTART;TZID=Asia/Singapore:20261031T190000
DTEND;TZID=Asia/Singapore:20261031T201500
DTSTAMP:20260423T173944
CREATED:20250731T062610Z
LAST-MODIFIED:20250731T072101Z
UID:10000069-1793473200-1793477700@beta.qbc.sg
SUMMARY:Worship Service - Saturday (English)
DESCRIPTION:
URL:https://beta.qbc.sg/event/worship-service-saturday-english/2026-10-31/
LOCATION:Agape Sanctuary (L3)\, 495 Margaret Drive\, Singapore\, 149305\, Singapore
CATEGORIES:English,Worship Service
ATTACH;FMTTYPE=image/jpeg:https://beta.qbc.sg/wp-content/uploads/2025/07/event-worshipservice-en-sat.jpg
END:VEVENT
BEGIN:VEVENT
DTSTART;TZID=Asia/Singapore:20261107T190000
DTEND;TZID=Asia/Singapore:20261107T201500
DTSTAMP:20260423T173944
CREATED:20250731T062610Z
LAST-MODIFIED:20250731T072101Z
UID:10000070-1794078000-1794082500@beta.qbc.sg
SUMMARY:Worship Service - Saturday (English)
DESCRIPTION:
URL:https://beta.qbc.sg/event/worship-service-saturday-english/2026-11-07/
LOCATION:Agape Sanctuary (L3)\, 495 Margaret Drive\, Singapore\, 149305\, Singapore
CATEGORIES:English,Worship Service
ATTACH;FMTTYPE=image/jpeg:https://beta.qbc.sg/wp-content/uploads/2025/07/event-worshipservice-en-sat.jpg
END:VEVENT
BEGIN:VEVENT
DTSTART;TZID=Asia/Singapore:20261114T190000
DTEND;TZID=Asia/Singapore:20261114T201500
DTSTAMP:20260423T173944
CREATED:20250731T062610Z
LAST-MODIFIED:20250731T072101Z
UID:10000071-1794682800-1794687300@beta.qbc.sg
SUMMARY:Worship Service - Saturday (English)
DESCRIPTION:
URL:https://beta.qbc.sg/event/worship-service-saturday-english/2026-11-14/
LOCATION:Agape Sanctuary (L3)\, 495 Margaret Drive\, Singapore\, 149305\, Singapore
CATEGORIES:English,Worship Service
ATTACH;FMTTYPE=image/jpeg:https://beta.qbc.sg/wp-content/uploads/2025/07/event-worshipservice-en-sat.jpg
END:VEVENT
BEGIN:VEVENT
DTSTART;TZID=Asia/Singapore:20261121T190000
DTEND;TZID=Asia/Singapore:20261121T201500
DTSTAMP:20260423T173944
CREATED:20250731T062610Z
LAST-MODIFIED:20250731T072101Z
UID:10000072-1795287600-1795292100@beta.qbc.sg
SUMMARY:Worship Service - Saturday (English)
DESCRIPTION:
URL:https://beta.qbc.sg/event/worship-service-saturday-english/2026-11-21/
LOCATION:Agape Sanctuary (L3)\, 495 Margaret Drive\, Singapore\, 149305\, Singapore
CATEGORIES:English,Worship Service
ATTACH;FMTTYPE=image/jpeg:https://beta.qbc.sg/wp-content/uploads/2025/07/event-worshipservice-en-sat.jpg
END:VEVENT
BEGIN:VEVENT
DTSTART;TZID=Asia/Singapore:20261128T190000
DTEND;TZID=Asia/Singapore:20261128T201500
DTSTAMP:20260423T173944
CREATED:20250731T062610Z
LAST-MODIFIED:20250731T072101Z
UID:10000073-1795892400-1795896900@beta.qbc.sg
SUMMARY:Worship Service - Saturday (English)
DESCRIPTION:
URL:https://beta.qbc.sg/event/worship-service-saturday-english/2026-11-28/
LOCATION:Agape Sanctuary (L3)\, 495 Margaret Drive\, Singapore\, 149305\, Singapore
CATEGORIES:English,Worship Service
ATTACH;FMTTYPE=image/jpeg:https://beta.qbc.sg/wp-content/uploads/2025/07/event-worshipservice-en-sat.jpg
END:VEVENT
BEGIN:VEVENT
DTSTART;TZID=Asia/Singapore:20261205T190000
DTEND;TZID=Asia/Singapore:20261205T201500
DTSTAMP:20260423T173944
CREATED:20250731T062610Z
LAST-MODIFIED:20250731T072101Z
UID:10000074-1796497200-1796501700@beta.qbc.sg
SUMMARY:Worship Service - Saturday (English)
DESCRIPTION:
URL:https://beta.qbc.sg/event/worship-service-saturday-english/2026-12-05/
LOCATION:Agape Sanctuary (L3)\, 495 Margaret Drive\, Singapore\, 149305\, Singapore
CATEGORIES:English,Worship Service
ATTACH;FMTTYPE=image/jpeg:https://beta.qbc.sg/wp-content/uploads/2025/07/event-worshipservice-en-sat.jpg
END:VEVENT
BEGIN:VEVENT
DTSTART;TZID=Asia/Singapore:20261212T190000
DTEND;TZID=Asia/Singapore:20261212T201500
DTSTAMP:20260423T173944
CREATED:20250731T062610Z
LAST-MODIFIED:20250731T072101Z
UID:10000075-1797102000-1797106500@beta.qbc.sg
SUMMARY:Worship Service - Saturday (English)
DESCRIPTION:
URL:https://beta.qbc.sg/event/worship-service-saturday-english/2026-12-12/
LOCATION:Agape Sanctuary (L3)\, 495 Margaret Drive\, Singapore\, 149305\, Singapore
CATEGORIES:English,Worship Service
ATTACH;FMTTYPE=image/jpeg:https://beta.qbc.sg/wp-content/uploads/2025/07/event-worshipservice-en-sat.jpg
END:VEVENT
BEGIN:VEVENT
DTSTART;TZID=Asia/Singapore:20261219T190000
DTEND;TZID=Asia/Singapore:20261219T201500
DTSTAMP:20260423T173944
CREATED:20250731T062610Z
LAST-MODIFIED:20250731T072101Z
UID:10000076-1797706800-1797711300@beta.qbc.sg
SUMMARY:Worship Service - Saturday (English)
DESCRIPTION:
URL:https://beta.qbc.sg/event/worship-service-saturday-english/2026-12-19/
LOCATION:Agape Sanctuary (L3)\, 495 Margaret Drive\, Singapore\, 149305\, Singapore
CATEGORIES:English,Worship Service
ATTACH;FMTTYPE=image/jpeg:https://beta.qbc.sg/wp-content/uploads/2025/07/event-worshipservice-en-sat.jpg
END:VEVENT
BEGIN:VEVENT
DTSTART;TZID=Asia/Singapore:20261226T190000
DTEND;TZID=Asia/Singapore:20261226T201500
DTSTAMP:20260423T173944
CREATED:20250731T062610Z
LAST-MODIFIED:20250731T072101Z
UID:10000077-1798311600-1798316100@beta.qbc.sg
SUMMARY:Worship Service - Saturday (English)
DESCRIPTION:
URL:https://beta.qbc.sg/event/worship-service-saturday-english/2026-12-26/
LOCATION:Agape Sanctuary (L3)\, 495 Margaret Drive\, Singapore\, 149305\, Singapore
CATEGORIES:English,Worship Service
ATTACH;FMTTYPE=image/jpeg:https://beta.qbc.sg/wp-content/uploads/2025/07/event-worshipservice-en-sat.jpg
END:VEVENT
BEGIN:VEVENT
DTSTART;TZID=Asia/Singapore:20270102T190000
DTEND;TZID=Asia/Singapore:20270102T201500
DTSTAMP:20260423T173944
CREATED:20250731T062610Z
LAST-MODIFIED:20250731T072101Z
UID:10000078-1798916400-1798920900@beta.qbc.sg
SUMMARY:Worship Service - Saturday (English)
DESCRIPTION:
URL:https://beta.qbc.sg/event/worship-service-saturday-english/2027-01-02/
LOCATION:Agape Sanctuary (L3)\, 495 Margaret Drive\, Singapore\, 149305\, Singapore
CATEGORIES:English,Worship Service
ATTACH;FMTTYPE=image/jpeg:https://beta.qbc.sg/wp-content/uploads/2025/07/event-worshipservice-en-sat.jpg
END:VEVENT
BEGIN:VEVENT
DTSTART;TZID=Asia/Singapore:20270109T190000
DTEND;TZID=Asia/Singapore:20270109T201500
DTSTAMP:20260423T173944
CREATED:20250731T062610Z
LAST-MODIFIED:20250731T072101Z
UID:10000079-1799521200-1799525700@beta.qbc.sg
SUMMARY:Worship Service - Saturday (English)
DESCRIPTION:
URL:https://beta.qbc.sg/event/worship-service-saturday-english/2027-01-09/
LOCATION:Agape Sanctuary (L3)\, 495 Margaret Drive\, Singapore\, 149305\, Singapore
CATEGORIES:English,Worship Service
ATTACH;FMTTYPE=image/jpeg:https://beta.qbc.sg/wp-content/uploads/2025/07/event-worshipservice-en-sat.jpg
END:VEVENT
BEGIN:VEVENT
DTSTART;TZID=Asia/Singapore:20270116T190000
DTEND;TZID=Asia/Singapore:20270116T201500
DTSTAMP:20260423T173944
CREATED:20250731T062610Z
LAST-MODIFIED:20250731T072101Z
UID:10000080-1800126000-1800130500@beta.qbc.sg
SUMMARY:Worship Service - Saturday (English)
DESCRIPTION:
URL:https://beta.qbc.sg/event/worship-service-saturday-english/2027-01-16/
LOCATION:Agape Sanctuary (L3)\, 495 Margaret Drive\, Singapore\, 149305\, Singapore
CATEGORIES:English,Worship Service
ATTACH;FMTTYPE=image/jpeg:https://beta.qbc.sg/wp-content/uploads/2025/07/event-worshipservice-en-sat.jpg
END:VEVENT
BEGIN:VEVENT
DTSTART;TZID=Asia/Singapore:20270123T190000
DTEND;TZID=Asia/Singapore:20270123T201500
DTSTAMP:20260423T173944
CREATED:20250731T062610Z
LAST-MODIFIED:20250731T072101Z
UID:10000081-1800730800-1800735300@beta.qbc.sg
SUMMARY:Worship Service - Saturday (English)
DESCRIPTION:
URL:https://beta.qbc.sg/event/worship-service-saturday-english/2027-01-23/
LOCATION:Agape Sanctuary (L3)\, 495 Margaret Drive\, Singapore\, 149305\, Singapore
CATEGORIES:English,Worship Service
ATTACH;FMTTYPE=image/jpeg:https://beta.qbc.sg/wp-content/uploads/2025/07/event-worshipservice-en-sat.jpg
END:VEVENT
BEGIN:VEVENT
DTSTART;TZID=Asia/Singapore:20270130T190000
DTEND;TZID=Asia/Singapore:20270130T201500
DTSTAMP:20260423T173944
CREATED:20250731T062610Z
LAST-MODIFIED:20250731T072101Z
UID:10000082-1801335600-1801340100@beta.qbc.sg
SUMMARY:Worship Service - Saturday (English)
DESCRIPTION:
URL:https://beta.qbc.sg/event/worship-service-saturday-english/2027-01-30/
LOCATION:Agape Sanctuary (L3)\, 495 Margaret Drive\, Singapore\, 149305\, Singapore
CATEGORIES:English,Worship Service
ATTACH;FMTTYPE=image/jpeg:https://beta.qbc.sg/wp-content/uploads/2025/07/event-worshipservice-en-sat.jpg
END:VEVENT
BEGIN:VEVENT
DTSTART;TZID=Asia/Singapore:20270206T190000
DTEND;TZID=Asia/Singapore:20270206T201500
DTSTAMP:20260423T173944
CREATED:20250731T062610Z
LAST-MODIFIED:20250731T072101Z
UID:10000083-1801940400-1801944900@beta.qbc.sg
SUMMARY:Worship Service - Saturday (English)
DESCRIPTION:
URL:https://beta.qbc.sg/event/worship-service-saturday-english/2027-02-06/
LOCATION:Agape Sanctuary (L3)\, 495 Margaret Drive\, Singapore\, 149305\, Singapore
CATEGORIES:English,Worship Service
ATTACH;FMTTYPE=image/jpeg:https://beta.qbc.sg/wp-content/uploads/2025/07/event-worshipservice-en-sat.jpg
END:VEVENT
BEGIN:VEVENT
DTSTART;TZID=Asia/Singapore:20270213T190000
DTEND;TZID=Asia/Singapore:20270213T201500
DTSTAMP:20260423T173944
CREATED:20250731T062610Z
LAST-MODIFIED:20250731T072101Z
UID:10000084-1802545200-1802549700@beta.qbc.sg
SUMMARY:Worship Service - Saturday (English)
DESCRIPTION:
URL:https://beta.qbc.sg/event/worship-service-saturday-english/2027-02-13/
LOCATION:Agape Sanctuary (L3)\, 495 Margaret Drive\, Singapore\, 149305\, Singapore
CATEGORIES:English,Worship Service
ATTACH;FMTTYPE=image/jpeg:https://beta.qbc.sg/wp-content/uploads/2025/07/event-worshipservice-en-sat.jpg
END:VEVENT
BEGIN:VEVENT
DTSTART;TZID=Asia/Singapore:20270220T190000
DTEND;TZID=Asia/Singapore:20270220T201500
DTSTAMP:20260423T173944
CREATED:20250731T062610Z
LAST-MODIFIED:20250731T072101Z
UID:10000085-1803150000-1803154500@beta.qbc.sg
SUMMARY:Worship Service - Saturday (English)
DESCRIPTION:
URL:https://beta.qbc.sg/event/worship-service-saturday-english/2027-02-20/
LOCATION:Agape Sanctuary (L3)\, 495 Margaret Drive\, Singapore\, 149305\, Singapore
CATEGORIES:English,Worship Service
ATTACH;FMTTYPE=image/jpeg:https://beta.qbc.sg/wp-content/uploads/2025/07/event-worshipservice-en-sat.jpg
END:VEVENT
BEGIN:VEVENT
DTSTART;TZID=Asia/Singapore:20270227T190000
DTEND;TZID=Asia/Singapore:20270227T201500
DTSTAMP:20260423T173944
CREATED:20250731T062610Z
LAST-MODIFIED:20250731T072101Z
UID:10000086-1803754800-1803759300@beta.qbc.sg
SUMMARY:Worship Service - Saturday (English)
DESCRIPTION:
URL:https://beta.qbc.sg/event/worship-service-saturday-english/2027-02-27/
LOCATION:Agape Sanctuary (L3)\, 495 Margaret Drive\, Singapore\, 149305\, Singapore
CATEGORIES:English,Worship Service
ATTACH;FMTTYPE=image/jpeg:https://beta.qbc.sg/wp-content/uploads/2025/07/event-worshipservice-en-sat.jpg
END:VEVENT
BEGIN:VEVENT
DTSTART;TZID=Asia/Singapore:20270306T190000
DTEND;TZID=Asia/Singapore:20270306T201500
DTSTAMP:20260423T173944
CREATED:20250731T062610Z
LAST-MODIFIED:20250731T072101Z
UID:10000087-1804359600-1804364100@beta.qbc.sg
SUMMARY:Worship Service - Saturday (English)
DESCRIPTION:
URL:https://beta.qbc.sg/event/worship-service-saturday-english/2027-03-06/
LOCATION:Agape Sanctuary (L3)\, 495 Margaret Drive\, Singapore\, 149305\, Singapore
CATEGORIES:English,Worship Service
ATTACH;FMTTYPE=image/jpeg:https://beta.qbc.sg/wp-content/uploads/2025/07/event-worshipservice-en-sat.jpg
END:VEVENT
BEGIN:VEVENT
DTSTART;TZID=Asia/Singapore:20270313T190000
DTEND;TZID=Asia/Singapore:20270313T201500
DTSTAMP:20260423T173944
CREATED:20250731T062610Z
LAST-MODIFIED:20250731T072101Z
UID:10000088-1804964400-1804968900@beta.qbc.sg
SUMMARY:Worship Service - Saturday (English)
DESCRIPTION:
URL:https://beta.qbc.sg/event/worship-service-saturday-english/2027-03-13/
LOCATION:Agape Sanctuary (L3)\, 495 Margaret Drive\, Singapore\, 149305\, Singapore
CATEGORIES:English,Worship Service
ATTACH;FMTTYPE=image/jpeg:https://beta.qbc.sg/wp-content/uploads/2025/07/event-worshipservice-en-sat.jpg
END:VEVENT
BEGIN:VEVENT
DTSTART;TZID=Asia/Singapore:20270320T190000
DTEND;TZID=Asia/Singapore:20270320T201500
DTSTAMP:20260423T173944
CREATED:20250731T062610Z
LAST-MODIFIED:20250731T072101Z
UID:10000089-1805569200-1805573700@beta.qbc.sg
SUMMARY:Worship Service - Saturday (English)
DESCRIPTION:
URL:https://beta.qbc.sg/event/worship-service-saturday-english/2027-03-20/
LOCATION:Agape Sanctuary (L3)\, 495 Margaret Drive\, Singapore\, 149305\, Singapore
CATEGORIES:English,Worship Service
ATTACH;FMTTYPE=image/jpeg:https://beta.qbc.sg/wp-content/uploads/2025/07/event-worshipservice-en-sat.jpg
END:VEVENT
BEGIN:VEVENT
DTSTART;TZID=Asia/Singapore:20270327T190000
DTEND;TZID=Asia/Singapore:20270327T201500
DTSTAMP:20260423T173944
CREATED:20250731T062610Z
LAST-MODIFIED:20250731T072101Z
UID:10000090-1806174000-1806178500@beta.qbc.sg
SUMMARY:Worship Service - Saturday (English)
DESCRIPTION:
URL:https://beta.qbc.sg/event/worship-service-saturday-english/2027-03-27/
LOCATION:Agape Sanctuary (L3)\, 495 Margaret Drive\, Singapore\, 149305\, Singapore
CATEGORIES:English,Worship Service
ATTACH;FMTTYPE=image/jpeg:https://beta.qbc.sg/wp-content/uploads/2025/07/event-worshipservice-en-sat.jpg
END:VEVENT
BEGIN:VEVENT
DTSTART;TZID=Asia/Singapore:20270403T190000
DTEND;TZID=Asia/Singapore:20270403T201500
DTSTAMP:20260423T173944
CREATED:20250731T062610Z
LAST-MODIFIED:20250731T072101Z
UID:10000091-1806778800-1806783300@beta.qbc.sg
SUMMARY:Worship Service - Saturday (English)
DESCRIPTION:
URL:https://beta.qbc.sg/event/worship-service-saturday-english/2027-04-03/
LOCATION:Agape Sanctuary (L3)\, 495 Margaret Drive\, Singapore\, 149305\, Singapore
CATEGORIES:English,Worship Service
ATTACH;FMTTYPE=image/jpeg:https://beta.qbc.sg/wp-content/uploads/2025/07/event-worshipservice-en-sat.jpg
END:VEVENT
BEGIN:VEVENT
DTSTART;TZID=Asia/Singapore:20270410T190000
DTEND;TZID=Asia/Singapore:20270410T201500
DTSTAMP:20260423T173944
CREATED:20250731T062610Z
LAST-MODIFIED:20250731T072101Z
UID:10000092-1807383600-1807388100@beta.qbc.sg
SUMMARY:Worship Service - Saturday (English)
DESCRIPTION:
URL:https://beta.qbc.sg/event/worship-service-saturday-english/2027-04-10/
LOCATION:Agape Sanctuary (L3)\, 495 Margaret Drive\, Singapore\, 149305\, Singapore
CATEGORIES:English,Worship Service
ATTACH;FMTTYPE=image/jpeg:https://beta.qbc.sg/wp-content/uploads/2025/07/event-worshipservice-en-sat.jpg
END:VEVENT
BEGIN:VEVENT
DTSTART;TZID=Asia/Singapore:20270417T190000
DTEND;TZID=Asia/Singapore:20270417T201500
DTSTAMP:20260423T173944
CREATED:20250731T062610Z
LAST-MODIFIED:20250731T072101Z
UID:10000093-1807988400-1807992900@beta.qbc.sg
SUMMARY:Worship Service - Saturday (English)
DESCRIPTION:
URL:https://beta.qbc.sg/event/worship-service-saturday-english/2027-04-17/
LOCATION:Agape Sanctuary (L3)\, 495 Margaret Drive\, Singapore\, 149305\, Singapore
CATEGORIES:English,Worship Service
ATTACH;FMTTYPE=image/jpeg:https://beta.qbc.sg/wp-content/uploads/2025/07/event-worshipservice-en-sat.jpg
END:VEVENT
BEGIN:VEVENT
DTSTART;TZID=Asia/Singapore:20270424T190000
DTEND;TZID=Asia/Singapore:20270424T201500
DTSTAMP:20260423T173944
CREATED:20250731T062610Z
LAST-MODIFIED:20250731T072101Z
UID:10000094-1808593200-1808597700@beta.qbc.sg
SUMMARY:Worship Service - Saturday (English)
DESCRIPTION:
URL:https://beta.qbc.sg/event/worship-service-saturday-english/2027-04-24/
LOCATION:Agape Sanctuary (L3)\, 495 Margaret Drive\, Singapore\, 149305\, Singapore
CATEGORIES:English,Worship Service
ATTACH;FMTTYPE=image/jpeg:https://beta.qbc.sg/wp-content/uploads/2025/07/event-worshipservice-en-sat.jpg
END:VEVENT
BEGIN:VEVENT
DTSTART;TZID=Asia/Singapore:20270501T190000
DTEND;TZID=Asia/Singapore:20270501T201500
DTSTAMP:20260423T173944
CREATED:20250731T062610Z
LAST-MODIFIED:20250731T072101Z
UID:10000095-1809198000-1809202500@beta.qbc.sg
SUMMARY:Worship Service - Saturday (English)
DESCRIPTION:
URL:https://beta.qbc.sg/event/worship-service-saturday-english/2027-05-01/
LOCATION:Agape Sanctuary (L3)\, 495 Margaret Drive\, Singapore\, 149305\, Singapore
CATEGORIES:English,Worship Service
ATTACH;FMTTYPE=image/jpeg:https://beta.qbc.sg/wp-content/uploads/2025/07/event-worshipservice-en-sat.jpg
END:VEVENT
END:VCALENDAR